{"text_format":"1","workbook":"xlsx","n_sheets":14,"sheets":["Содержание","Витрины","Охлаждаемые стеллажи","Кондитерские витрины","Gamma в линию","Низкотемпературные шкафы","Лари ItalFrost","Лари-бонеты Italfrost","Витрины Cryspi БА","Расчет нестанд.RAL","Цвет стандарт","Брендирование","Лист1","Лист2"],"not_rendered":{"charts":0,"images":104,"macros":1,"external_links":6,"defined_names":251,"comments":0,"pivot_tables":0},"unopened":[],"bounds":{"document_bytes":16777216,"sheet_cells":100000,"rows_first":2000,"rows_last":500,"rows_between":2000,"halvings":0,"cell_chars":16384,"cell_head_chars":4096},"cells_cut":0,"cells_raw":0,"read":"whole","date_system":"1900"}

{"sheet":"Содержание","index":0,"n_rows":31,"n_cols":4,"rows_kept":31,"cut":false,"hidden":false,"merged":[[0,10,4,12],[3,1,3,3],[4,2,27,2],[26,3,27,3]]}
[null,null,null,"ЗАВОД «ОПК»\nТел.: +7 (495) 987-4388\ne-mail: info@cryspi.ru\nсайт: cryspi.ru"]
[null,"Ваша скидка","-",0]
[null,"НДС","-"]
[null,"Холодильное оборудование (встроенное холодоснабжение)"]
[null,"Холодильные витрины Cryspi",null,"Морозильные и холодильные лари Italfrost"]
[null,"Витрины со статической системой охлаждения:"]
[null,"Витрины OCTAVA",null,"Морозильные лари с гнутыми раздвижными стеклами"]
[null,"Витрины OCTAVA Quadro",null,"Морозильные лари с прямыми раздвижными стеклами"]
[null,"Витрины OCTAVA XL",null,"Морозильные лари с глухой крышкой"]
[null,"Витрины GAMMA-2",null,"Морозильные лари с глухой крышкой (крышка из нерж. стали)"]
[null,"Витрины GAMMA-2 Quadro",null,"Морозильные лари с гнутыми раздвижными стеклами (4+)"]
[null,"Витрины GAMMA Quadro Fish",null,"Морозильные лари с прямыми раздвижными стеклами (4+)"]
[null,"Витрины Sonata Quadro"]
[null,"Витрины настольные Vivo 1000"]
[null,"Витрины с динамической системой охлаждения:"]
[null,"Витрины Magnum",null,"Лари для мягкого мороженного"]
[null,"Витрины Magnum ECO"]
[null,"Витрины Magnum Quadro",null,"Морозильные и холодильные лари-бонеты Italfrost"]
[null,null,null,"Двухрежимный ЛВН Italfrost"]
[null,"Витрины Cryspi без агрегата (под выносное хладоснабжение)",null,"Двухрежимный ЛВН Italfrost PUSH"]
[null,"Опции и аксессуары для витрин Cryspi",null,"Двухрежимный ЛВН Rondo"]
[null,"Опции и аксессуары для витрин и стеллажей Cryspi"]
[null,"Таблица для расчета нестандартного цвета и исполнений",null,"Низкотемпературные решения Italfrost для предприятий торговли"]
[null,"Кондитерские витрины",null,"Verona. Низкотемпературная надстройка для ларей 400л. NEW"]
[null,"Adagio",null,"CORSA. Низкотемпературная надстройка для ларей-бонет "]
[null,"Elegia",null,"ANZIO. Низкотемпературный шкаф (стеллаж)"]
[null,"Горки",null,"Нестандартные цвета оборудования со встроенным холодоснабжением"]
[null,"Solo L7/L9"]
[null,"Solo L9 Light",null,"Нестандартные цвета оборудования"]
[null,"Solo SML",null,"Нестандартные цвета окраски ларей-бонет и ларей Italfrost"]
[null,"Unit",null,"Брендирование оборудования"]

{"sheet":"Витрины","index":1,"n_rows":316,"n_cols":11,"rows_kept":316,"cut":false,"hidden":false,"merged":[[216,6,217,6],[15,3,15,4],[6,0,7,9],[8,0,8,4],[8,5,8,9],[193,0,193,9],[194,0,194,3],[189,0,191,2],[188,1,188,9],[194,4,194,9],[169,4,170,4],[169,7,170,7],[169,9,170,9],[169,8,170,8],[173,6,174,6],[131,1,131,4],[133,3,134,3],[140,6,141,6],[133,5,134,5],[151,6,152,6],[154,3,155,3],[156,6,157,6],[0,7,4,9],[229,3,230,3],[229,5,230,5],[156,5,157,5],[60,3,60,4],[65,6,66,6],[67,6,68,6],[76,6,77,6],[79,6,80,6],[153,3,153,9],[146,3,146,9],[139,3,139,9],[132,3,132,7],[86,3,87,3],[97,3,98,3],[72,3,73,3],[97,6,98,6],[74,6,75,6],[83,6,84,6],[88,6,89,6],[86,5,87,5],[86,6,87,6],[212,3,213,3],[220,6,221,6],[149,5,150,5],[275,6,276,6],[275,5,276,5],[296,5,297,5],[303,5,304,5],[212,6,213,6],[215,3,215,7],[196,3,196,9],[203,6,204,6],[197,3,198,3],[210,5,211,5],[218,6,219,6],[203,3,204,3],[203,5,204,5],[206,3,207,3],[205,3,205,9],[199,3,200,3],[199,5,200,5],[199,6,200,6],[270,6,271,6],[273,3,274,3],[273,5,274,5],[210,3,211,3],[212,5,213,5],[273,6,274,6],[225,6,226,6],[224,3,224,9],[135,6,136,6],[133,6,134,6],[121,5,122,5],[114,5,115,5],[307,3,308,3],[307,5,308,5],[307,6,308,6],[277,3,278,3],[268,3,269,3],[268,5,269,5],[268,6,269,6],[280,5,281,5],[280,6,281,6],[275,3,276,3],[282,5,283,5],[282,6,283,6],[282,3,283,3],[292,5,293,5],[292,6,293,6],[300,3,300,9],[291,3,291,9],[298,3,299,3],[298,5,299,5],[298,6,299,6],[220,3,221,3],[233,3,233,9],[189,7,191,7],[62,3,62,4],[58,3,58,4],[78,3,78,9],[71,3,71,9],[64,3,64,7],[65,5,66,5],[67,3,68,3],[67,5,68,5],[69,3,70,3],[88,3,89,3],[63,1,63,4],[144,6,145,6],[135,5,136,5],[173,3,174,3],[137,5,138,5],[147,6,148,6],[154,6,155,6],[227,6,228,6],[229,6,230,6],[112,5,113,5],[112,6,113,6],[252,3,253,3],[245,6,246,6],[247,6,248,6],[231,3,232,3],[231,5,232,5],[243,6,244,6],[201,6,202,6],[206,6,207,6],[169,3,170,3],[208,5,209,5],[218,3,219,3],[206,5,207,5],[214,1,214,4],[210,6,211,6],[222,6,223,6],[171,6,172,6],[171,3,172,3],[227,3,228,3],[227,5,228,5],[169,2,174,2],[154,5,155,5],[266,6,267,6],[254,6,255,6],[256,3,257,3],[256,5,257,5],[256,6,257,6],[238,6,239,6],[249,3,250,3],[231,6,232,6],[252,6,253,6],[266,5,267,5],[258,6,259,6],[249,6,250,6],[245,3,246,3],[245,5,246,5],[236,3,237,3],[238,5,239,5],[234,3,235,3],[234,5,235,5],[234,6,235,6],[236,5,237,5],[238,3,239,3],[242,3,242,9],[303,6,304,6],[294,5,295,5],[264,1,264,4],[266,3,267,3],[240,3,241,3],[240,5,241,5],[240,6,241,6],[265,0,308,2],[292,3,293,3],[294,3,295,3],[305,3,306,3],[305,6,306,6],[305,5,306,5],[270,3,271,3],[296,6,297,6],[284,3,284,9],[279,3,279,9],[272,3,272,9],[277,5,278,5],[277,6,278,6],[280,3,281,3],[270,5,271,5],[264,8,265,9],[265,3,265,7],[54,3,54,4],[315,7,316,7],[285,3,286,3],[285,5,286,5],[285,6,286,6],[287,3,288,3],[287,5,288,5],[287,6,288,6],[289,3,290,3],[289,5,290,5],[289,6,290,6],[301,6,302,6],[303,3,304,3],[301,3,302,3],[301,5,302,5],[294,6,295,6],[296,3,297,3],[169,6,170,6],[208,6,209,6],[165,3,166,3],[165,5,166,5],[167,3,168,3],[159,3,160,3],[201,3,202,3],[124,0,130,0],[129,5,130,5],[107,5,108,5],[117,6,118,6],[121,6,122,6],[114,3,115,3],[1,2,1,3],[2,2,2,3],[3,2,3,3],[48,1,48,3],[110,5,111,5],[114,6,115,6],[105,6,106,6],[117,3,118,3],[117,5,118,5],[88,5,89,5],[99,5,100,5],[69,5,70,5],[103,5,104,5],[105,5,106,5],[30,3,30,4],[31,3,31,4],[37,3,37,4],[21,3,21,4],[51,3,51,4],[44,3,44,9],[40,3,40,9],[36,3,36,9],[55,3,55,4],[102,0,122,0],[102,2,122,2],[103,3,104,3],[110,3,111,3],[119,3,120,3],[119,5,120,5],[103,6,104,6],[112,3,113,3],[121,3,122,3],[105,3,106,3],[72,6,73,6],[69,6,70,6],[81,6,82,6],[99,6,100,6],[101,1,101,4],[99,3,100,3],[61,3,61,9],[57,3,57,9],[85,3,85,9],[43,3,43,4],[32,3,32,4],[33,3,33,4],[34,3,34,4],[35,1,35,5],[28,3,28,4],[26,3,26,4],[27,3,27,4],[38,3,38,4],[9,0,10,0],[9,1,10,1],[9,2,10,2],[9,3,10,4],[9,5,10,5],[11,1,11,3],[13,3,13,4],[14,3,14,4],[56,3,56,4],[16,3,16,9],[20,3,20,9],[24,3,24,9],[53,3,53,9],[49,3,49,9],[17,3,17,4],[18,3,18,4],[19,3,19,4],[45,3,45,4],[46,3,46,4],[47,3,47,4],[9,6,10,6],[9,7,10,7],[9,8,10,8],[9,9,10,9],[72,5,73,5],[76,5,77,5],[79,3,80,3],[79,5,80,5],[59,3,59,4],[63,8,64,9],[12,0,34,2],[36,0,47,2],[29,3,29,4],[11,8,12,9],[76,3,77,3],[50,3,50,4],[39,3,39,4],[41,3,41,4],[52,3,52,4],[64,0,100,0],[64,2,100,2],[65,3,66,3],[12,3,12,7],[49,2,62,2],[22,3,22,4],[23,3,23,4],[42,3,42,4],[25,3,25,4],[97,5,98,5],[74,3,75,3],[74,5,75,5],[81,3,82,3],[81,5,82,5],[83,3,84,3],[83,5,84,5],[125,6,126,6],[127,3,128,3],[127,5,128,5],[127,6,128,6],[125,3,126,3],[125,5,126,5],[123,1,123,4],[124,2,130,2],[107,3,108,3],[107,6,108,6],[119,6,120,6],[110,6,111,6],[129,6,130,6],[129,3,130,3],[140,5,141,5],[144,5,145,5],[149,3,150,3],[201,5,202,5],[184,3,184,9],[180,3,180,9],[176,3,176,9],[195,1,195,4],[132,2,160,2],[140,3,141,3],[131,8,132,9],[151,3,152,3],[137,6,138,6],[142,5,143,5],[197,5,198,5],[197,6,198,6],[167,6,168,6],[162,3,162,9],[137,3,138,3],[167,5,168,5],[159,6,160,6],[142,6,143,6],[163,6,164,6],[161,1,161,4],[215,2,263,2],[222,3,223,3],[222,5,223,5],[243,5,244,5],[258,3,259,3],[258,5,259,5],[254,3,255,3],[254,5,255,5],[249,5,250,5],[225,3,226,3],[225,5,226,5],[220,5,221,5],[216,3,217,3],[218,5,219,5],[216,5,217,5],[262,3,262,9],[260,3,260,9],[251,3,251,9],[214,8,215,9],[252,5,253,5],[247,3,248,3],[243,3,244,3],[247,5,248,5],[236,6,237,6],[162,0,174,0],[196,2,213,2],[176,2,187,2],[162,2,168,2],[175,1,175,4],[142,3,143,3],[144,3,145,3],[149,6,150,6],[165,6,166,6],[151,5,152,5],[147,5,148,5],[147,3,148,3],[169,5,170,5],[171,5,172,5],[159,5,160,5],[132,0,160,0],[135,3,136,3],[176,0,187,0],[196,0,213,0],[156,3,157,3],[208,3,209,3],[163,3,164,3],[163,5,164,5],[173,5,174,5]]}
[null,null,null,null,null,null,null,"ЗАВОД «ОПК»\nТел.: +7 (495) 987-4388\ne-mail: info@cryspi.ru\nсайт: cryspi.ru",null,null,"На главную"]
[]
[null,null,"Ваша скидка:",null,{"$f":"Содержание!D2","v":0}]
[null,null,"НДС:",null,{"$f":"IF(Лист2!A1=TRUE,\"С НДС\",\"БЕЗ НДС\")","v":"С НДС"}]
[]
[]
["Витрины Cryspi со встроенным агрегатом. Статическая система охлаждения "]
[]
["- Статическая система охлаждения,, R-290;\n- Электронный контроллер;\n- Оттайка для версий ВПС - естественная, для версий ВПСН и ВПН - ТЭН (по умолчанию);\n- Общее освещение для версий с высоким стеклом - нейтральное (4000К);                                                   \n - Товарный накопитель для линейных модулей (кроме НТ);      ",null,null,null,null,"- Внутренний объем - оцинкованный металл, внутренний объем в зоне выкладки - нерж.сталь;\n- Ночные шторки для витрин с высоким стеклом;\n- Фронтальное стекло закаленное, не открывается;\n- Емкость для сбора талой воды, опционально возможно применение выпаривателя;\n- Деревянная усиленная упаковка;"]
["№","Комплектация","Изображение","Наименование",null,"Температурный режим,°C","Площадь экспозиции, кв.м.","Габариты, \n(LxWxH) мм","Базовая \nцена, руб.\n(с НДС)",{"$f":"[5]Лист2!$A$5","v":"Ваша цена, руб."}]
[]
[1,"Витрины серии OCTAVA, глубина выкладки 660 мм, стандартный Ral 3002.",null,null,null,null,null,null,"Опции Octava "]
[null,null,null,{"$f":"D37","v":"Среднетемпературные, ВПС"},null,null,null,null,null,null,"*нажмите чтобы перейти в список опций"]
[null,null,null,"Octava 1200 ",null,"0…+7",0.72,"1180х955х1265",69228.896000000008,{"$f":"ROUND(I14*(1-$E$3)/Лист2!$A$6,0)","v":69229}]
[null,null,null,"Octava 1500 ",null,"0…+7",0.92,"1480х955х1265",75097.484000000011,{"$f":"ROUND(I15*(1-$E$3)/Лист2!$A$6,0)","v":75097}]
[null,null,null,"Octava 1800 ",null,"0…+7",1.1200000000000001,"1780х955х1265",83455.592000000004,{"$f":"ROUND(I16*(1-$E$3)/Лист2!$A$6,0)","v":83456}]
[null,null,null,{"$f":"D41","v":"Средне-низкотемпературные, ВПСН"}]
[null,null,null,"Octava SN 1200 ",null,"-6…+6",0.72,"1180х955х1265",76965.636000000013,{"$f":"ROUND(I18*(1-$E$3)/Лист2!$A$6,0)","v":76966}]
[null,null,null,"Octava SN 1500 ",null,"-6…+6",0.92,"1480х955х1265",86783.04800000001,{"$f":"ROUND(I19*(1-$E$3)/Лист2!$A$6,0)","v":86783}]
[null,null,null,"Octava SN 1800 ",null,"-6…+6",1.1200000000000001,"1780х955х1265",96382.88,{"$f":"ROUND(I20*(1-$E$3)/Лист2!$A$6,0)","v":96383}]
[null,null,null,{"$f":"D45","v":"Низкотемпературные, ВПН"}]
[null,null,null,"Octava M 1200 ",null," -13…-15",0.69,"1180х955х1265",82187.556000000011,{"$f":"ROUND(I22*(1-$E$3)/Лист2!$A$6,0)","v":82188}]
[null,null,null,"Octava M 1500 ",null," -13…-15",0.89,"1480х955х1265",94009.74,{"$f":"ROUND(I23*(1-$E$3)/Лист2!$A$6,0)","v":94010}]
[null,null,null,"Octava M 1800 ",null," -13…-15",1.08,"1780х955х1265",103871.68000000001,{"$f":"ROUND(I24*(1-$E$3)/Лист2!$A$6,0)","v":103872}]
[null,null,null,"Угловые витрины и кассовые прилавки"]
[null,null,null,"Octava OC (угол внеш.)",null,"0…+7",0.79,"1180х1180х1265",117506.35600000001,{"$f":"ROUND(I26*(1-$E$3)/Лист2!$A$6,0)","v":117506}]
[null,null,null,"Octava IC (угол внутр.)",null,"0…+7",0.61,"1354х1354х1265",107019.00000000001,{"$f":"ROUND(I27*(1-$E$3)/Лист2!$A$6,0)","v":107019}]
[null,null,null,"Octava КНП 620 ББ",null,"-","-","620х917х900",20418.112000000005,{"$f":"ROUND(I28*(1-$E$3)/Лист2!$A$6,0)","v":20418}]
[null,null,null,"Octava КНП 700 с боковинами",null,"-","-","700х924х900",28705.380000000005,{"$f":"ROUND(I29*(1-$E$3)/Лист2!$A$6,0)","v":28705}]
[null,null,null,"Octava КНП 1200 ",null,"-","-","1200х924х900",41514.26400000001,{"$f":"ROUND(I30*(1-$E$3)/Лист2!$A$6,0)","v":41514}]
[null,null,null,"Octava КНП 980",null,"-","-","980х924х900",36621.244000000006,{"$f":"ROUND(I31*(1-$E$3)/Лист2!$A$6,0)","v":36621}]
[null,null,null,"Octava КНП OC 90 ББ",null,"-","-","1592х850х900",27598.252,{"$f":"ROUND(I32*(1-$E$3)/Лист2!$A$6,0)","v":27598}]
[null,null,null,"Octava КНП OC 90",null,"-","-","1632х871х900",35890.580000000009,{"$f":"ROUND(I33*(1-$E$3)/Лист2!$A$6,0)","v":35891}]
[null,null,null,"Octava КНП IC 90 ББ",null,"-","-","1592х850х900",27053.796000000002,{"$f":"ROUND(I34*(1-$E$3)/Лист2!$A$6,0)","v":27054}]
[null,null,null,"Octava КНП IC 90",null,"-","-","1632х871х900",35347.136000000006,{"$f":"ROUND(I35*(1-$E$3)/Лист2!$A$6,0)","v":35347}]
[2,"Витрины серии OCTAVA Q, глубина выкладки 660 мм, стандартный RAL 7016"]
[null,null,null,"Среднетемпературные, ВПС"]
[null,null,null,"Octava Q 1200",null,"0…+7",0.72,"1180х925х1200",73139.26400000001,{"$f":"ROUND(I38*(1-$E$3)/Лист2!$A$6,0)","v":73139}]
[null,null,null,"Octava Q 1500",null,"0…+7",0.92,"1480х925х1200",82409.184000000008,{"$f":"ROUND(I39*(1-$E$3)/Лист2!$A$6,0)","v":82409}]
[null,null,null,"Octava Q 1800",null,"0…+7",1.1200000000000001,"1780х925х1200",94241.488000000012,{"$f":"ROUND(I40*(1-$E$3)/Лист2!$A$6,0)","v":94241}]
[null,null,null,"Средне-низкотемпературные, ВПСН"]
[null,null,null,"Octava Q SN 1200",null,"-6…+6",0.72,"1180х925х1200",80384.172000000006,{"$f":"ROUND(I42*(1-$E$3)/Лист2!$A$6,0)","v":80384}]
[null,null,null,"Octava Q SN 1500",null,"-6…+6",0.92,"1480х925х1200",92067.712,{"$f":"ROUND(I43*(1-$E$3)/Лист2!$A$6,0)","v":92068}]
[null,null,null,"Octava Q SN 1800",null,"-6…+6",1.1200000000000001,"1780х925х1200",103659.16000000002,{"$f":"ROUND(I44*(1-$E$3)/Лист2!$A$6,0)","v":103659}]
[null,null,null,"Низкотемпературные, ВПН"]
[null,null,null,"Octava Q M 1200",null," -15…-18",0.69,"1180х925х1200",90267.364000000016,{"$f":"ROUND(I46*(1-$E$3)/Лист2!$A$6,0)","v":90267}]
[null,null,null,"Octava Q M 1500",null," -15…-18",0.89,"1480х925х1200",99529.188000000009,{"$f":"ROUND(I47*(1-$E$3)/Лист2!$A$6,0)","v":99529}]
[null,null,null,"Octava Q M 1800",null," -15…-18",1.08,"1780х925х1200",112628.516,{"$f":"ROUND(I48*(1-$E$3)/Лист2!$A$6,0)","v":112629}]
[3,"Витрины серии OCTAVA XL, глубина выкладки 780 мм, стандартный Ral 7016."]
[null,"Стандартная комплектация:",null,"Среднетемпературные, ВПС"]
[null,"- агрегат",null,"Octava XL 1200 ",null,"0…+7",0.93,"1218х1069х1214",73347.736000000004,{"$f":"ROUND(I51*(1-$E$3)/Лист2!$A$6,0)","v":73348}]
[null,"- испаритель",null,"Octava XL 1500 ",null,"0…+7",1.1499999999999999,"1518х1069х1214",81186.688000000009,{"$f":"ROUND(I52*(1-$E$3)/Лист2!$A$6,0)","v":81187}]
[null,"- шторки из оргстекла",null,"Octava XL 1800 ",null,"0…+7",1.4,"1818х1069х1214",92057.592000000004,{"$f":"ROUND(I53*(1-$E$3)/Лист2!$A$6,0)","v":92058}]
[null,"- комплект боковин и боковых стекол",null,"Средне-низкотемпературные, ВПСН"]
[null,"- комплект фронтальных стекол",null,"Octava XL SN 1200 ",null,"-6…+6",0.93,"1218х1069х1214",86392.415999999997,{"$f":"ROUND(I55*(1-$E$3)/Лист2!$A$6,0)","v":86392}]
[null,"- полка навесная стеклянная на прямых витринах",null,"Octava XL SN 1500 ",null,"-6…+6",1.1499999999999999,"1518х1069х1214",91335.024000000005,{"$f":"ROUND(I56*(1-$E$3)/Лист2!$A$6,0)","v":91335}]
[null,"- ёмкость для сбора талой воды",null,"Octava XL SN 1800 ",null,"-6…+6",1.4,"1818х1069х1214",106444.18400000001,{"$f":"ROUND(I57*(1-$E$3)/Лист2!$A$6,0)","v":106444}]
[null,null,null,"Низкотемпературные, ВПН"]
[null,null,null,"Octava XL М 1200 ",null," -15…-18",0.85,"1218х1093х1300",106451.26800000001,{"$f":"ROUND(I59*(1-$E$3)/Лист2!$A$6,0)","v":106451}]
[null,null,null,"Octava XL М 1500 ",null," -15…-18",1.1000000000000001,"1518х1093х1300",123157.36400000002,{"$f":"ROUND(I60*(1-$E$3)/Лист2!$A$6,0)","v":123157}]
[null,null,null,"Octava XL М 1800 ",null," -15…-18",1.3,"1818х1093х1300",135163.73200000002,{"$f":"ROUND(I61*(1-$E$3)/Лист2!$A$6,0)","v":135164}]
[null,null,null,"Кассовые прилавки"]
[null,null,null,"Octava XL КНП 620 ББ",null,"-","-","600х1069х940",22958.232000000004,{"$f":"ROUND(I63*(1-$E$3)/Лист2!$A$6,0)","v":22958}]
[4,"Витрины серии GAMMA-2, глубина выкладки 760 мм, стандартный Ral 3004.",null,null,null,null,null,null,"Опции Gamma-2"]
[null,"Стандартная комплектация:",null,"                                                                   Среднетемпературные, ВПС",null,null,null,null,null,null,"*нажмите чтобы перейти в список опций"]
[null,"- агрегат",null,"Gamma-2 1200","с боковинами","0…+7",0.85,"1218х1093х1300",78658.712,{"$f":"ROUND(I66*(1-$E$3)/Лист2!$A$6,0)","v":78659}]
[null,"- испаритель",null,null,"без боковин",null,null,"1118х1093х1300",67737.208000000013,{"$f":"ROUND(I67*(1-$E$3)/Лист2!$A$6,0)","v":67737}]
[null,"- шторки из оргстекла",null,"Gamma-2 1500","с боковинами","0…+7",1.1000000000000001,"1518х1093х1300",83823.960000000006,{"$f":"ROUND(I68*(1-$E$3)/Лист2!$A$6,0)","v":83824}]
[null,"- комплект боковин и боковых стекол",null,null,"без боковин",null,null,"1418х1093х1300",72903.468000000008,{"$f":"ROUND(I69*(1-$E$3)/Лист2!$A$6,0)","v":72903}]
[null,"- комплект фронтальных стекол",null,"Gamma-2 1800","с боковинами","0…+7",1.3,"1818х1093х1300",98442.3,{"$f":"ROUND(I70*(1-$E$3)/Лист2!$A$6,0)","v":98442}]
[null,"- экспозиционные полки из шлифованной стали",null,null,"без боковин",null,null,"1718х1093х1300",87193.919999999998,{"$f":"ROUND(I71*(1-$E$3)/Лист2!$A$6,0)","v":87194}]
[null,"- ёмкость для сбора талой воды",null,"Средне-низкотемпературные, ВПСН"]
[null,"- светильник с люминесцентной лампой",null,"Gamma-2 SN 1200","с боковинами","-6…+6",0.85,"1218х1093х1300",88611.732000000018,{"$f":"ROUND(I73*(1-$E$3)/Лист2!$A$6,0)","v":88612}]
[null,"- электронный пульт управления",null,null,"без боковин",null,null,"1118х1093х1300",77363.352000000014,{"$f":"ROUND(I74*(1-$E$3)/Лист2!$A$6,0)","v":77363}]
[null,"- деревянная тара",null,"Gamma-2 SN 1500","с боковинами","-6…+6",1.1000000000000001,"1518х1093х1300",99219.516000000003,{"$f":"ROUND(I75*(1-$E$3)/Лист2!$A$6,0)","v":99220}]
[null,null,null,null,"без боковин",null,null,"1418х1093х1300",87971.136000000013,{"$f":"ROUND(I76*(1-$E$3)/Лист2!$A$6,0)","v":87971}]
[null,null,null,"Gamma-2 SN 1800","с боковинами","-6…+6",1.3,"1818х1093х1300",113040.40000000001,{"$f":"ROUND(I77*(1-$E$3)/Лист2!$A$6,0)","v":113040}]
[null,null,null,null,"без боковин",null,null,"1718х1093х1300",101791.008,{"$f":"ROUND(I78*(1-$E$3)/Лист2!$A$6,0)","v":101791}]
[null,null,null,"Низкотемпературные, ВПН"]
[null,null,null,"Gamma-2 М 1200","с боковинами","от -18",0.85,"1218х1093х1300",109385.05600000001,{"$f":"ROUND(I80*(1-$E$3)/Лист2!$A$6,0)","v":109385}]
[null,null,null,null,"без боковин",null,null,"1118х1093х1300",97963.624000000025,{"$f":"ROUND(I81*(1-$E$3)/Лист2!$A$6,0)","v":97964}]
[null,null,null,"Gamma-2 М 1500","с боковинами","от -18",1.1000000000000001,"1518х1093х1300",125063.97200000001,{"$f":"ROUND(I82*(1-$E$3)/Лист2!$A$6,0)","v":125064}]
[null,null,null,null,"без боковин",null,null,"1418х1093х1300",113642.54000000002,{"$f":"ROUND(I83*(1-$E$3)/Лист2!$A$6,0)","v":113643}]
[null,null,null,"Gamma-2 М 1800","с боковинами","от -18",1.3,"1818х1093х1300",137704.86400000003,{"$f":"ROUND(I84*(1-$E$3)/Лист2!$A$6,0)","v":137705}]
[null,null,null,null,"без боковин",null,null,"1718х1093х1300",126283.43200000002,{"$f":"ROUND(I85*(1-$E$3)/Лист2!$A$6,0)","v":126283}]
[null,null,null,"Угловые витрины (ВПС) и кассовые прилавки"]
[null,null,null,"Gamma-2 OC 90 (угол внеш.)","с боковинами","0…+7",0.92,"1180х1180х1300",114922.72000000002,{"$f":"ROUND(I87*(1-$E$3)/Лист2!$A$6,0)","v":114923}]
[null,null,null,null,"без боковин",null,null,"1130х1130х1300",103673.32800000002,{"$f":"ROUND(I88*(1-$E$3)/Лист2!$A$6,0)","v":103673}]
[null,null,null,"Gamma-2 IC 90 (угол внутр.)","с боковинами","0…+7",0.74,"1355х1355х1300",127136.54800000002,{"$f":"ROUND(I89*(1-$E$3)/Лист2!$A$6,0)","v":127137}]
[null,null,null,null,"без боковин",null,null,"1305х1305х1300",115888.16800000002,{"$f":"ROUND(I90*(1-$E$3)/Лист2!$A$6,0)","v":115888}]
[null,null,null,"Gamma-2 КНП 1020","с боковинами","-","-","1000х1100х940",31366.940000000002,{"$f":"ROUND(I91*(1-$E$3)/Лист2!$A$6,0)","v":31367}]
[null,null,null,"Gamma-2 КНП 920 ББ","без боковин","-","-","920х1100х940",25534.784000000003,{"$f":"ROUND(I92*(1-$E$3)/Лист2!$A$6,0)","v":25535}]
[null,null,null,"Gamma-2 КНП 800","с боковинами","-","-","800х1100х940",29661.720000000005,{"$f":"ROUND(I93*(1-$E$3)/Лист2!$A$6,0)","v":29662}]
[null,null,null,"Gamma-2 КНП 700 ББ","без боковин","-","-","700х1100х940",22134.464000000004,{"$f":"ROUND(I94*(1-$E$3)/Лист2!$A$6,0)","v":22134}]
[null,null,null,"Gamma-2 КНП 600","с боковинами","-","-","600х1100х940",27747.016000000003,{"$f":"ROUND(I95*(1-$E$3)/Лист2!$A$6,0)","v":27747}]
[null,null,null,"Gamma-2 КНП 600 ББ","без боковин","-","-","600х1100х940",20861.368000000002,{"$f":"ROUND(I96*(1-$E$3)/Лист2!$A$6,0)","v":20861}]
[null,null,null,"Gamma-2 КНП 500 ББ","без боковин","-","-","500х1100х940",18162.364000000005,{"$f":"ROUND(I97*(1-$E$3)/Лист2!$A$6,0)","v":18162}]
[null,null,null,"Gamma-2 ОС КНП (угол внеш.)","с боковинами","-","-","1145х1145х930",41676.184000000008,{"$f":"ROUND(I98*(1-$E$3)/Лист2!$A$6,0)","v":41676}]
[null,null,null,null,"без боковин",null,null,"1095х1095х930",32093.556000000004,{"$f":"ROUND(I99*(1-$E$3)/Лист2!$A$6,0)","v":32094}]
[null,null,null,"Gamma-2 IC КНП (угол внутр.)","с боковинами","-","-","1275х1275х930",40947.544000000002,{"$f":"ROUND(I100*(1-$E$3)/Лист2!$A$6,0)","v":40948}]
[null,null,null,null,"без боковин",null,null,"1225х1225х930",31365.928000000004,{"$f":"ROUND(I101*(1-$E$3)/Лист2!$A$6,0)","v":31366}]
[5,"Витрины серии GAMMA-2 LED, глубина выкладки 760 мм, стандартный Ral 3004."]
[null,"Стандартная комплектация:",null,"Среднетемпературные"]
[null,"- агрегат",null,"Gamma-2 1200 LED","с боковинами","0…+7",0.85,"1218х1093х1300",79279,{"$f":"ROUND(I104*(1-$E$3)/Лист2!$A$6,0)","v":79279}]
[null,"- испаритель",null,null,"без боковин",null,null,"1118х1093х1300",68488,{"$f":"ROUND(I105*(1-$E$3)/Лист2!$A$6,0)","v":68488}]
[null,"- шторки из оргстекла",null,"Gamma-2 1500 LED","с боковинами","0…+7",1.1000000000000001,"1518х1093х1300",84487,{"$f":"ROUND(I106*(1-$E$3)/Лист2!$A$6,0)","v":84487}]
[null,"- комплект боковин и боковых стекол",null,null,"без боковин",null,null,"1418х1093х1300",73696,{"$f":"ROUND(I107*(1-$E$3)/Лист2!$A$6,0)","v":73696}]
[null,"- комплект фронтальных стекол",null,"Gamma-2 1800 LED","с боковинами","0…+7",1.3,"1818х1093х1300",99221,{"$f":"ROUND(I108*(1-$E$3)/Лист2!$A$6,0)","v":99221}]
[null,"- экспозиционные полки из шлифованной стали",null,null,"без боковин",null,null,"1718х1093х1300",88105,{"$f":"ROUND(I109*(1-$E$3)/Лист2!$A$6,0)","v":88105}]
[null,"- ёмкость для сбора талой воды",null,"Средне-низкотемпературные"]
[null,"- светодиодная подсветка",null,"Gamma-2 SN 1200 LED","с боковинами","-6…+6",0.85,"1218х1093х1300",89313,{"$f":"ROUND(I111*(1-$E$3)/Лист2!$A$6,0)","v":89313}]
[null,"- электронный пульт управления",null,null,"без боковин",null,null,"1118х1093х1300",78198,{"$f":"ROUND(I112*(1-$E$3)/Лист2!$A$6,0)","v":78198}]
[null,"- деревянная тара",null,"Gamma-2 SN 1500 LED","с боковинами","-6…+6",1.1000000000000001,"1518х1093х1300",100002,{"$f":"ROUND(I113*(1-$E$3)/Лист2!$A$6,0)","v":100002}]
[null,null,null,null,"без боковин",null,null,"1418х1093х1300",88888,{"$f":"ROUND(I114*(1-$E$3)/Лист2!$A$6,0)","v":88888}]
[null,null,null,"Gamma-2 SN 1800 LED","с боковинами","-6…+6",1.3,"1818х1093х1300",113934,{"$f":"ROUND(I115*(1-$E$3)/Лист2!$A$6,0)","v":113934}]
[null,null,null,null,"без боковин",null,null,"1718х1093х1300",102818,{"$f":"ROUND(I116*(1-$E$3)/Лист2!$A$6,0)","v":102818}]
[null,null,null,"Низкотемпературные"]
[null,null,null,"Gamma-2 М 1200 LED","с боковинами","от -18",0.85,"1218х1093х1300",110250,{"$f":"ROUND(I118*(1-$E$3)/Лист2!$A$6,0)","v":110250}]
[null,null,null,null,"без боковин",null,null,"1118х1093х1300",98964,{"$f":"ROUND(I119*(1-$E$3)/Лист2!$A$6,0)","v":98964}]
[null,null,null,"Gamma-2 М 1500 LED","с боковинами","от -18",1.1000000000000001,"1518х1093х1300",126052,{"$f":"ROUND(I120*(1-$E$3)/Лист2!$A$6,0)","v":126052}]
[null,null,null,null,"без боковин",null,null,"1418х1093х1300",114766,{"$f":"ROUND(I121*(1-$E$3)/Лист2!$A$6,0)","v":114766}]
[null,null,null,"Gamma-2 М 1800 LED","с боковинами","от -18",1.3,"1818х1093х1300",138793,{"$f":"ROUND(I122*(1-$E$3)/Лист2!$A$6,0)","v":138793}]
[null,null,null,null,"без боковин",null,null,"1718х1093х1300",127507,{"$f":"ROUND(I123*(1-$E$3)/Лист2!$A$6,0)","v":127507}]
[6,"Витрины серии GAMMA-2  FISH, глубина выкладки 760 мм, стандартный Ral 3004."]
[null,null,null,"Средне-низкотемпературные"]
[null,"- усиленный поддон для льда и рыбы",null,"Gamma-2 SN FISH 1200","с боковинами","-6…+6",0.85,"1218х1093х1300",97693,{"$f":"ROUND(I126*(1-$E$3)/Лист2!$A$6,0)","v":97693}]
[null,"- коррозионностойкая решётка защиты испарителя ",null,null,"без боковин",null,null,"1118х1093х1300",86578,{"$f":"ROUND(I127*(1-$E$3)/Лист2!$A$6,0)","v":86578}]
[null,"- увеличенный слив (Д 40 мм)",null,"Gamma-2 SN FISH 1500","с боковинами","-6…+6",1.1000000000000001,"1518х1093х1300",112989,{"$f":"ROUND(I128*(1-$E$3)/Лист2!$A$6,0)","v":112989}]
[null,null,null,null,"без боковин",null,null,"1418х1093х1300",101874,{"$f":"ROUND(I129*(1-$E$3)/Лист2!$A$6,0)","v":101874}]
[null,null,null,"Gamma-2 SN FISH 1800","с боковинами","-6…+6",1.3,"1818х1093х1300",126856,{"$f":"ROUND(I130*(1-$E$3)/Лист2!$A$6,0)","v":126856}]
[null,null,null,null,"без боковин",null,null,"1718х1093х1300",115742,{"$f":"ROUND(I131*(1-$E$3)/Лист2!$A$6,0)","v":115742}]
[5,"Витрины серии GAMMA QUADRO LED, глубина выкладки 760 мм, стандартный Ral 9016/7016.",null,null,null,null,null,null,"Опции Gamma Quadro"]
[null,"Стандартная комплектация:",null,"                                                                   Среднетемпературные, ВПС",null,null,null,null,null,null,"*нажмите чтобы перейти в список опций"]
[null,"- агрегат",null,"Gamma Quadro 1200 LED","с боковинами","0…+7",0.85,"1218х1087х1209",95003.524000000005,{"$f":"ROUND(I134*(1-$E$3)/Лист2!$A$6,0)","v":95004}]
[null,"- испаритель",null,null,"без боковин",null,null,"1118х1087х1209",83771.33600000001,{"$f":"ROUND(I135*(1-$E$3)/Лист2!$A$6,0)","v":83771}]
[null,"- шторки из оргстекла",null,"Gamma Quadro 1500 LED","с боковинами","0…+7",1.1000000000000001,"1518х1087х1209",101552.17600000001,{"$f":"ROUND(I136*(1-$E$3)/Лист2!$A$6,0)","v":101552}]
[null,"- комплект боковин и боковых стекол",null,null,"без боковин",null,null,"1418х1087х1209",90319.988000000012,{"$f":"ROUND(I137*(1-$E$3)/Лист2!$A$6,0)","v":90320}]
[null,"- комплект фронтальных стекол",null,"Gamma Quadro 1800 LED","с боковинами","0…+7",1.3,"1818х1087х1209",122444.91600000001,{"$f":"ROUND(I138*(1-$E$3)/Лист2!$A$6,0)","v":122445}]
[null,"- экспозиционные полки из шлифованной стали",null,null,"без боковин",null,null,"1718х1087х1209",110651.06800000001,{"$f":"ROUND(I139*(1-$E$3)/Лист2!$A$6,0)","v":110651}]
[null,"- ёмкость для сбора талой воды",null,"Средне-низкотемпературные, ВПСН"]
[null,"- светодиодная подсветка",null,"Gamma Quadro SN 1200 LED","с боковинами","-6…+6",0.85,"1218х1087х1209",103358.59600000001,{"$f":"ROUND(I141*(1-$E$3)/Лист2!$A$6,0)","v":103359}]
[null,"- электронный пульт управления",null,null,"без боковин",null,null,"1118х1087х1209",91563.736000000019,{"$f":"ROUND(I142*(1-$E$3)/Лист2!$A$6,0)","v":91564}]
[null,"- деревянная тара",null,"Gamma Quadro SN 1500 LED","с боковинами","-6…+6",1.1000000000000001,"1518х1087х1209",119079.00400000002,{"$f":"ROUND(I143*(1-$E$3)/Лист2!$A$6,0)","v":119079}]
[null,null,null,null,"без боковин",null,null,"1418х1087х1209",107285.15600000002,{"$f":"ROUND(I144*(1-$E$3)/Лист2!$A$6,0)","v":107285}]
[null,null,null,"Gamma Quadro SN 1800 LED","с боковинами","-6…+6",1.3,"1818х1087х1209",135204.212,{"$f":"ROUND(I145*(1-$E$3)/Лист2!$A$6,0)","v":135204}]
[null,null,null,null,"без боковин",null,null,"1718х1087х1209",123409.35200000001,{"$f":"ROUND(I146*(1-$E$3)/Лист2!$A$6,0)","v":123409}]
[null,null,null,"Низкотемпературные, ВПН"]
[null,null,null,"Gamma Quadro М 1200 LED","с боковинами","от -18",0.85,"1218х1087х1209",118131.77200000001,{"$f":"ROUND(I148*(1-$E$3)/Лист2!$A$6,0)","v":118132}]
[null,null,null,null,"без боковин",null,null,"1118х1087х1209",106155.76400000001,{"$f":"ROUND(I149*(1-$E$3)/Лист2!$A$6,0)","v":106156}]
[null,null,null,"Gamma Quadro М 1500 LED","с боковинами","от -18",1.1000000000000001,"1518х1087х1209",134814.592,{"$f":"ROUND(I150*(1-$E$3)/Лист2!$A$6,0)","v":134815}]
[null,null,null,null,"без боковин",null,null,"1418х1087х1209",122838.58400000002,{"$f":"ROUND(I151*(1-$E$3)/Лист2!$A$6,0)","v":122839}]
[null,null,null,"Gamma Quadro М 1800 LED","с боковинами","от -18",1.3,"1818х1087х1209",157161.57600000003,{"$f":"ROUND(I152*(1-$E$3)/Лист2!$A$6,0)","v":157162}]
[null,null,null,null,"без боковин",null,null,"1718х1087х1209",145185.56800000003,{"$f":"ROUND(I153*(1-$E$3)/Лист2!$A$6,0)","v":145186}]
[null,null,null,"Угловые витрины (ВПС) и кассовые прилавки"]
[null,null,null,"Gamma Quadro OC 90 LED (угол внеш.)","с боковинами","0…+7",0.92,"1180х1180х1209",142945,{"$f":"ROUND(I155*(1-$E$3)/Лист2!$A$6,0)","v":142945}]
[null,null,null,null,"без боковин",null,null,"1130х1130х1209",131150.14000000001,{"$f":"ROUND(I156*(1-$E$3)/Лист2!$A$6,0)","v":131150}]
[null,null,null,"Gamma Quadro IC 90 LED (угол внутр.)","с боковинами","0…+7",0.74,"1355х1355х1209",142945,{"$f":"ROUND(I157*(1-$E$3)/Лист2!$A$6,0)","v":142945}]
[null,null,null,null,"без боковин",null,null,"1305х1305х1209",131150.14000000001,{"$f":"ROUND(I158*(1-$E$3)/Лист2!$A$6,0)","v":131150}]
[null,null,null,"Gamma Quadro КНП 500 ББ","без боковин","-","-","500х1087х936",20857.320000000003,{"$f":"ROUND(I159*(1-$E$3)/Лист2!$A$6,0)","v":20857}]
[null,null,null,"Gamma Quadro ОС КНП (угол внеш.)","с боковинами","-","-","1145х1145х936",47862.540000000008,{"$f":"ROUND(I160*(1-$E$3)/Лист2!$A$6,0)","v":47863}]
[null,null,null,null,"без боковин",null,null,"1095х1095х936",37811.356,{"$f":"ROUND(I161*(1-$E$3)/Лист2!$A$6,0)","v":37811}]
[6,"Витрины серии GAMMA Quadro LED FISH, глубина выкладки 760 мм, стандартный Ral 3004."]
[null,null,null,"Средне-низкотемпературные, ВПСН"]
[null,"- усиленный поддон для льда и рыбы",null,"Gamma Quadro SN FISH 1200 LED","с боковинами","-6…+6",0.85,"1218х1093х1300",112830.91600000001,{"$f":"ROUND(I164*(1-$E$3)/Лист2!$A$6,0)","v":112831}]
[null,"- коррозионностойкая решётка защиты испарителя ",null,null,"без боковин",null,null,"1118х1093х1300",101036.05600000001,{"$f":"ROUND(I165*(1-$E$3)/Лист2!$A$6,0)","v":101036}]
[null,"- увеличенный слив (Д 40 мм)",null,"Gamma Quadro SN FISH 1500 LED","с боковинами","-6…+6",1.1000000000000001,"1518х1093х1300",131100.55200000003,{"$f":"ROUND(I166*(1-$E$3)/Лист2!$A$6,0)","v":131101}]
[null,null,null,null,"без боковин",null,null,"1418х1093х1300",119305.69200000001,{"$f":"ROUND(I167*(1-$E$3)/Лист2!$A$6,0)","v":119306}]
[null,null,null,"Gamma Quadro SN FISH 1800 LED","с боковинами","-6…+6",1.3,"1818х1093х1300",147717.592,{"$f":"ROUND(I168*(1-$E$3)/Лист2!$A$6,0)","v":147718}]
[null,null,null,null,"без боковин",null,null,"1718х1093х1300",135922.73200000002,{"$f":"ROUND(I169*(1-$E$3)/Лист2!$A$6,0)","v":135923}]
[null,null,null,"Gamma Quadro Self 1200 (динамический холод)","с боковинами","0…+7",0.85,"1204х1096х934",104421,{"$f":"ROUND(I170*(1-$E$3)/Лист2!$A$6,0)","v":104421}]
[]
[]
[]
[]
[]
[7,"Витрины серии Sonata Quadro, глубина выкладки 760 мм, стандартный Ral 7016 "]
[null,null,null,"  Среднетемпературные, ВПС"]
[null,"Стандартная комплектация:",null,"Sonata Quadro  1200 LED","с боковинами","0…+7",0.85,"1218х1087х1209",85425.95600000002,{"$f":"ROUND(I178*(1-$E$3)/Лист2!$A$6,0)","v":85426}]
[null,"- агрегат",null,"Sonata Quadro  1500 LED","с боковинами","0…+7",1.1000000000000001,"1518х1087х1209",98630.532000000021,{"$f":"ROUND(I179*(1-$E$3)/Лист2!$A$6,0)","v":98631}]
[null,"- испаритель",null,"Sonata Quadro  1800 LED","с боковинами","0…+7",1.3,"1818х1087х1209",110507.36400000002,{"$f":"ROUND(I180*(1-$E$3)/Лист2!$A$6,0)","v":110507}]
[null,"- шторки из оргстекла",null,"Средне-низкотемпературные, ВПСН"]
[null,"- комплект боковин и боковых стекол",null,"Sonata Quadro SN 1200 LED","с боковинами","-6…+6",0.85,"1218х1087х1209",87276.90400000001,{"$f":"ROUND(I182*(1-$E$3)/Лист2!$A$6,0)","v":87277}]
[null,"- комплект фронтальных стекол",null,"Sonata Quadro SN 1500 LED","с боковинами","-6…+6",1.1000000000000001,"1518х1087х1209",103918.23200000002,{"$f":"ROUND(I183*(1-$E$3)/Лист2!$A$6,0)","v":103918}]
[null,"- экспозиционные полки из шлифованной стали",null,"Sonata Quadro SN 1800 LED","с боковинами","-6…+6",1.3,"1818х1087х1209",115904.36000000002,{"$f":"ROUND(I184*(1-$E$3)/Лист2!$A$6,0)","v":115904}]
[null,"- ёмкость для сбора талой воды",null,"Низкотемпературные, ВПН"]
[null,null,null,"Sonata Quadro М 1200 LED","с боковинами","от -18",0.85,"1218х1087х1209",103902.04000000002,{"$f":"ROUND(I186*(1-$E$3)/Лист2!$A$6,0)","v":103902}]
[null,null,null,"Sonata Quadro М 1500 LED","с боковинами","от -18",1.1000000000000001,"1518х1087х1209",124660.18400000001,{"$f":"ROUND(I187*(1-$E$3)/Лист2!$A$6,0)","v":124660}]
[null,null,null,"Sonata Quadro М 1800 LED","с боковинами","от -18",1.3,"1818х1087х1209",140386.66400000002,{"$f":"ROUND(I188*(1-$E$3)/Лист2!$A$6,0)","v":140387}]
[8,"Витрины настольные Vivo 1000 (статическое охлаждение, освещение нейтральное)"]
[null,null,null,"Витрина холодильная ВПС Vivo 1000 (0..+5°С)","с боковинами","0…+5",null,"1000x866x450",57388,{"$f":"ROUND(I190*(1-$E$3)/Лист2!$A$6,0)","v":57388}]
[null,null,null,"Витрина холодильная ВПСН Vivo 1000 (-5..+5°С)","с боковинами","-5…+5",null,null,64530,{"$f":"ROUND(I191*(1-$E$3)/Лист2!$A$6,0)","v":64530}]
[null,null,null,"Витрина тепловая ВПТ Vivo 1000","с боковинами","до +65",null,null,59895,{"$f":"ROUND(I192*(1-$E$3)/Лист2!$A$6,0)","v":59895}]
[]
["Витрины Cryspi со встроенным агрегатом. Динамическая система охлаждения "]
["- Динамическая система охлаждения;\n- Электронный контроллер;\n- Оттайка для версий ВПС - естественная, для версий ВПСН и ВПН - ТЭН (по умолчанию);\n- Общее освещение для версий с высоким стеклом - нейтральное (4000К);    \n - Товарный накопитель для линейных модулей (кроме НТ);   ",null,null,null,"- Внутренний объем - оцинкованный металл, внутренний объем в зоне выкладки - нерж.сталь;\n- Ночные шторки для витрин с высоким стеклом;                                                                             \n- Фронтальное стекло закаленное \n(Magnum Eco – стекло не открывается, Magnum Quadro – стекло открывается сверху-вниз без гидролифта; Magnum – стекло открывается снизу-вверх, опционально возможно применение гидролифта;) \n- Емкость для сбора талой воды, опционально возможно применение выпаривателя;\n- Деревянная усиленная упаковка;"]
[9,"Витрины серии MAGNUM ECO, глубина выкладки 860 мм, стандартный Ral 7016"]
[null,"Стандартная комплектация:",null,"  Среднетемпературные, ВПС"]
[null,"- агрегат",null,"Magnum Eco 1250 Д","с боковинами","0…+7",1.075,"1330х1100х1225",114997.60800000001,{"$f":"ROUND(I198*(1-$E$3)/Лист2!$A$6,0)","v":114998}]
[null,"- боковая панель со стеклом правая/левая",null,null,"без боковин",null,null,"1250х1100х1225",100590.77600000001,{"$f":"ROUND(I199*(1-$E$3)/Лист2!$A$6,0)","v":100591}]
[null,"- электронный пульт управления",null,"Magnum Eco 1880 Д","с боковинами","0…+7",1.62,"1960х1100х1225",145826.16400000005,{"$f":"ROUND(I200*(1-$E$3)/Лист2!$A$6,0)","v":145826}]
[null,"- испаритель",null,null,"без боковин",null,null,"1880х1100х1225",131419.33200000002,{"$f":"ROUND(I201*(1-$E$3)/Лист2!$A$6,0)","v":131419}]
[null,"- электрооттайка испарителя (SN/F)",null,"Magnum Eco 2500 Д","с боковинами","0…+7",2.15,"2580х1100х1225",181377.72400000002,{"$f":"ROUND(I202*(1-$E$3)/Лист2!$A$6,0)","v":181378}]
[null,"- экспозиционные полки (нерж. сталь)",null,null,"без боковин",null,null,"2500х1100х1225",166970.89200000002,{"$f":"ROUND(I203*(1-$E$3)/Лист2!$A$6,0)","v":166971}]
[null,"- светильник с люминисцентной лампой (кроме SG)",null,"Magnum Eco 3750 Д","с боковинами","0…+7",3.22,"3830х1100х1225",226774.02000000002,{"$f":"ROUND(I204*(1-$E$3)/Лист2!$A$6,0)","v":226774}]
[null,"- ночные шторки (оргстекло)",null,null,"без боковин",null,null,"3750х1100х1225",212368.2,{"$f":"ROUND(I205*(1-$E$3)/Лист2!$A$6,0)","v":212368}]
[null,"- защитный экран фронтальных стекол",null,"Средне-низкотемпературные, ВПСН"]
[null,"- ТЭНы обогрева ванны (F)",null,"Magnum Eco SN 1250 Д","с боковинами","-6…+6",1.075,"1330х1100х1225",123630.98000000001,{"$f":"ROUND(I207*(1-$E$3)/Лист2!$A$6,0)","v":123631}]
[null,"- лотки (в ванне тепловой) 2шт. (H)",null,null,"без боковин",null,null,"1250х1100х1225",109224.14800000002,{"$f":"ROUND(I208*(1-$E$3)/Лист2!$A$6,0)","v":109224}]
[null,"- бампер-отбойник из нержавеющей стали",null,"Magnum Eco SN 1880 Д","с боковинами","-6…+6",1.62,"1960х1100х1225",153991.99200000003,{"$f":"ROUND(I209*(1-$E$3)/Лист2!$A$6,0)","v":153992}]
[null,"- деревянная упаковка",null,null,"без боковин",null,null,"1880х1100х1225",139585.16,{"$f":"ROUND(I210*(1-$E$3)/Лист2!$A$6,0)","v":139585}]
[null,null,null,"Magnum Eco SN 2500 Д","с боковинами","-6…+6",2.15,"2580х1100х1225",186451.89200000002,{"$f":"ROUND(I211*(1-$E$3)/Лист2!$A$6,0)","v":186452}]
[null,null,null,null,"без боковин",null,null,"2500х1100х1225",172046.07200000004,{"$f":"ROUND(I212*(1-$E$3)/Лист2!$A$6,0)","v":172046}]
[null,null,null,"Magnum Eco SN 3750 Д","с боковинами","-6…+6",3.22,"3830х1100х1225",248772.87600000002,{"$f":"ROUND(I213*(1-$E$3)/Лист2!$A$6,0)","v":248773}]
[null,null,null,null,"без боковин",null,null,"3750х1100х1225",234365.03200000001,{"$f":"ROUND(I214*(1-$E$3)/Лист2!$A$6,0)","v":234365}]
[10,"Витрины серии MAGNUM, глубина выкладки 860 мм, стандартный Ral 7016",null,null,null,null,null,null,"Опции Magnum"]
[null,"Стандартная комплектация:",null,"  Среднетемпературные, ВПС",null,null,null,null,null,null,"*нажмите чтобы перейти в список опций"]
[null,"- агрегат",null,"Magnum 1250 Д","с боковинами","0…+7",1.075,"1330х1100х1225",133139.73200000002,{"$f":"ROUND(I217*(1-$E$3)/Лист2!$A$6,0)","v":133140}]
[null,"- боковая панель со стеклом правая/левая",null,null,"без боковин",null,null,"1250х1100х1225",119004.11600000001,{"$f":"ROUND(I218*(1-$E$3)/Лист2!$A$6,0)","v":119004}]
[null,"- электронный пульт управления",null,"Magnum 1880 Д","с боковинами","0…+7",1.62,"1960х1100х1225",178825.46000000002,{"$f":"ROUND(I219*(1-$E$3)/Лист2!$A$6,0)","v":178825}]
[null,"- испаритель",null,null,"без боковин",null,null,"1880х1100х1225",164687.82000000004,{"$f":"ROUND(I220*(1-$E$3)/Лист2!$A$6,0)","v":164688}]
[null,"- электрооттайка испарителя (ВПСН/ВПН)",null,"Magnum 2500 Д","с боковинами","0…+7",2.15,"2580х1100х1225",207977.13200000001,{"$f":"ROUND(I221*(1-$E$3)/Лист2!$A$6,0)","v":207977}]
[null,"- экспозиционные полки (нерж. сталь)",null,null,"без боковин",null,null,"2500х1100х1225",193840.50400000004,{"$f":"ROUND(I222*(1-$E$3)/Лист2!$A$6,0)","v":193841}]
[null,"- светильник с люминисцентной лампой (кроме SG)",null,"Magnum 3750 Д","с боковинами","0…+7",3.22,"3830х1100х1225",262589.71200000006,{"$f":"ROUND(I223*(1-$E$3)/Лист2!$A$6,0)","v":262590}]
[null,"- ночные шторки (оргстекло)",null,null,"без боковин",null,null,"3750х1100х1225",248453.08400000003,{"$f":"ROUND(I224*(1-$E$3)/Лист2!$A$6,0)","v":248453}]
[null,"- защитный экран фронтальных стекол (ВПСН/ВПН)",null,"Средне-низкотемпературные, ВПСН"]
[null,"- ТЭНы обогрева ванны (H)",null,"Magnum SN 1250 Д","с боковинами","-6…+6",1.075,"1330х1100х1225",144079.45200000002,{"$f":"ROUND(I226*(1-$E$3)/Лист2!$A$6,0)","v":144079}]
[null,"- лотки (в ванне тепловой) 2шт. (H)",null,null,"без боковин",null,null,"1250х1100х1225",129673.63200000003,{"$f":"ROUND(I227*(1-$E$3)/Лист2!$A$6,0)","v":129674}]
[null,"- устройство регулирования температуры - термостат IMIT TR2",null,"Magnum SN 1880 Д","с боковинами","-6…+6",1.62,"1960х1100х1225",189190.36400000003,{"$f":"ROUND(I228*(1-$E$3)/Лист2!$A$6,0)","v":189190}]
[null,"- деревянная упаковка",null,null,"без боковин",null,null,"1880х1100х1225",174783.53200000001,{"$f":"ROUND(I229*(1-$E$3)/Лист2!$A$6,0)","v":174784}]
[null,null,null,"Magnum SN 2500 Д","с боковинами","-6…+6",2.15,"2580х1100х1225",229005.48000000004,{"$f":"ROUND(I230*(1-$E$3)/Лист2!$A$6,0)","v":229005}]
[null,"Бампер и гидроподъемники - опция!",null,null,"без боковин",null,null,"2500х1100х1225",214600.67200000005,{"$f":"ROUND(I231*(1-$E$3)/Лист2!$A$6,0)","v":214601}]
[null,null,null,"Magnum SN 3750 Д","с боковинами","-6…+6",3.22,"3830х1100х1225",296897.52400000003,{"$f":"ROUND(I232*(1-$E$3)/Лист2!$A$6,0)","v":296898}]
[null,null,null,null,"без боковин",null,null,"3750х1100х1225",282491.70400000003,{"$f":"ROUND(I233*(1-$E$3)/Лист2!$A$6,0)","v":282492}]
[null,null,null,"Низкотемпературные, ВПН"]
[null,null,null,"Magnum F 1250 Д","с боковинами","-18...-15",1.075,"1330х1100х1225",161796.53600000002,{"$f":"ROUND(I235*(1-$E$3)/Лист2!$A$6,0)","v":161797}]
[null,null,null,null,"без боковин",null,null,"1250х1100х1225",144374.95600000001,{"$f":"ROUND(I236*(1-$E$3)/Лист2!$A$6,0)","v":144375}]
[null,null,null,"Magnum F 1880 Д","с боковинами","-18...-15",1.62,"1960х1100х1225",221482.27200000003,{"$f":"ROUND(I237*(1-$E$3)/Лист2!$A$6,0)","v":221482}]
[null,null,null,null,"без боковин",null,null,"1880х1100х1225",204062.71600000001,{"$f":"ROUND(I238*(1-$E$3)/Лист2!$A$6,0)","v":204063}]
[null,null,null,"Magnum F 2500 Д","с боковинами","-18...-15",2.15,"2580х1100х1225",252607.34400000004,{"$f":"ROUND(I239*(1-$E$3)/Лист2!$A$6,0)","v":252607}]
[null,null,null,null,"без боковин",null,null,"2500х1100х1225",235187.78800000003,{"$f":"ROUND(I240*(1-$E$3)/Лист2!$A$6,0)","v":235188}]
[null,null,null,"Magnum F 3750 Д","с боковинами","-18...-15",3.22,"3830х1100х1225",388785.10000000003,{"$f":"ROUND(I241*(1-$E$3)/Лист2!$A$6,0)","v":388785}]
[null,null,null,null,"без боковин",null,null,"3750х1100х1225",371364.53200000001,{"$f":"ROUND(I242*(1-$E$3)/Лист2!$A$6,0)","v":371365}]
[null,null,null,"Среднетемпературные с низким стеклом, ВПС Self"]
[null,null,null,"Magnum SG 1250 Д","с боковинами","0…+7",1.075,"1330х1100х895",116168.49200000001,{"$f":"ROUND(I244*(1-$E$3)/Лист2!$A$6,0)","v":116168}]
[null,null,null,null,"без боковин",null,null,"1250х1100х895",102031.86400000002,{"$f":"ROUND(I245*(1-$E$3)/Лист2!$A$6,0)","v":102032}]
[null,null,null,"Magnum SG 1880 Д","с боковинами","0…+7",1.62,"1960х1100х895",151751.424,{"$f":"ROUND(I246*(1-$E$3)/Лист2!$A$6,0)","v":151751}]
[null,null,null,null,"без боковин",null,null,"1880х1100х895",137614.796,{"$f":"ROUND(I247*(1-$E$3)/Лист2!$A$6,0)","v":137615}]
[null,null,null,"Magnum SG 2500 Д","с боковинами","0…+7",2.15,"2580х1100х895",180611.64,{"$f":"ROUND(I248*(1-$E$3)/Лист2!$A$6,0)","v":180612}]
[null,null,null,null,"без боковин",null,null,"2500х1100х895",166474,{"$f":"ROUND(I249*(1-$E$3)/Лист2!$A$6,0)","v":166474}]
[null,null,null,"Magnum SG 3750 Д","с боковинами","0…+7",3.22,"3830х1100х895",225715.46800000002,{"$f":"ROUND(I250*(1-$E$3)/Лист2!$A$6,0)","v":225715}]
[null,null,null,null,"без боковин",null,null,"3750х1100х895",211578.84,{"$f":"ROUND(I251*(1-$E$3)/Лист2!$A$6,0)","v":211579}]
[null,null,null,"Угловые витрины, ВПС"]
[null,null,null,"Magnum OC 90 Д","с боковинами","0…+7",1.1919999999999999,"1400х1400х1225",230419.24400000004,{"$f":"ROUND(I253*(1-$E$3)/Лист2!$A$6,0)","v":230419}]
[null,null,null,null,"без боковин",null,null,"1360х1360х1225",216282.61600000001,{"$f":"ROUND(I254*(1-$E$3)/Лист2!$A$6,0)","v":216283}]
[null,null,null,"Magnum ОC SG 90 Д","с боковинами","0…+7",1.1919999999999999,"1400х1400х897",181845.26800000001,{"$f":"ROUND(I255*(1-$E$3)/Лист2!$A$6,0)","v":181845}]
[null,null,null,null,"без боковин",null,null,"1360х1360х897",167710.66400000005,{"$f":"ROUND(I256*(1-$E$3)/Лист2!$A$6,0)","v":167711}]
[null,null,null,"Magnum IC 90 Д","с боковинами","0…+7",1.08,"1353х1353х1225",224138.77200000003,{"$f":"ROUND(I257*(1-$E$3)/Лист2!$A$6,0)","v":224139}]
[null,null,null,null,"без боковин",null,null,"1313х1313х1225",210002.14400000003,{"$f":"ROUND(I258*(1-$E$3)/Лист2!$A$6,0)","v":210002}]
[null,null,null,"Magnum IC SG 90 Д","с боковинами","0…+7",1.08,"1353х1353х897",211953.28000000003,{"$f":"ROUND(I259*(1-$E$3)/Лист2!$A$6,0)","v":211953}]
[null,null,null,null,"без боковин",null,null,"1313х1313х897",197817.66400000005,{"$f":"ROUND(I260*(1-$E$3)/Лист2!$A$6,0)","v":197818}]
[null,null,null,"Высокотемпературная, ВПТ"]
[null,null,null,"Magnum Н 1250","с боковинами","+30...+100",1.2150000000000001,"1330х1265х1198",121563.46400000002,{"$f":"ROUND(I262*(1-$E$3)/Лист2!$A$6,0)","v":121563}]
[null,null,null,"Кассовые прилавки"]
[null,null,null,"Magnum КНП 1000 ББ    ","без боковин",null,null,null,32313,32313]
[11,"Витрины серии MAGNUM QUADRO, глубина выкладки 860 мм, стандартный Ral 7016",null,null,null,null,null,null,"Опции Magnum Quadro"]
[null,null,null,"                                                         Среднетемпературные, ВПС",null,null,null,null,null,null,"*нажмите чтобы перейти в список опций"]
[null,null,null,"Magnum Quadro 1250","с боковинами","0…+5",1.075,"1330х1090х1225",132879.05315363576,{"$f":"ROUND(I267*(1-$E$3)/Лист2!$A$6,0)","v":132879}]
[null,null,null,null,"без боковин",null,null,"1250х1090х1225",118439.38920939522,{"$f":"ROUND(I268*(1-$E$3)/Лист2!$A$6,0)","v":118439}]
[null,null,null,"Magnum Quadro 1875","с боковинами","0…+5",1.62,"1330х1090х1225",162042.97323226856,{"$f":"ROUND(I269*(1-$E$3)/Лист2!$A$6,0)","v":162043}]
[null,null,null,null,"без боковин",null,null,"1875х1090х1225",147603.30928802802,{"$f":"ROUND(I270*(1-$E$3)/Лист2!$A$6,0)","v":147603}]
[null,null,null,"Magnum Quadro 2500","с боковинами","0…+5",2.15,"2580х1090х1225",187673.55315075055,{"$f":"ROUND(I271*(1-$E$3)/Лист2!$A$6,0)","v":187674}]
[null,null,null,null,"без боковин",null,null,"2500х1090х1225",173233.88920651001,{"$f":"ROUND(I272*(1-$E$3)/Лист2!$A$6,0)","v":173234}]
[null,null,null,"Средне-низкотемпературные, ВПСН"]
[null,null,null,"Magnum Quadro SN 1250","с боковинами","-5…+5",1.075,"1330х1090х1225",149857.88315363575,{"$f":"ROUND(I274*(1-$E$3)/Лист2!$A$6,0)","v":149858}]
[null,null,null,null,"без боковин",null,null,"1250х1090х1225",135418.2192093952,{"$f":"ROUND(I275*(1-$E$3)/Лист2!$A$6,0)","v":135418}]
[null,null,null,"Magnum Quadro SN 1875","с боковинами","-5…+5",1.62,"1330х1090х1225",183040.70823226855,{"$f":"ROUND(I276*(1-$E$3)/Лист2!$A$6,0)","v":183041}]
[null,null,null,null,"без боковин",null,null,"1875х1090х1225",168601.044288028,{"$f":"ROUND(I277*(1-$E$3)/Лист2!$A$6,0)","v":168601}]
[null,null,null,"Magnum Quadro SN 2500","с боковинами","-5…+5",2.15,"2580х1090х1225",212388.26295075056,{"$f":"ROUND(I278*(1-$E$3)/Лист2!$A$6,0)","v":212388}]
[null,null,null,null,"без боковин",null,null,"2500х1090х1225",197948.59900651002,{"$f":"ROUND(I279*(1-$E$3)/Лист2!$A$6,0)","v":197949}]
[null,null,null,"Низкотемпературные, ВПН"]
[null,null,null,"ВПН Magnum Quadro 1250","с боковинами","-18...-15",1.075,"1330х1090х1225",162874.98615363575,{"$f":"ROUND(I281*(1-$E$3)/Лист2!$A$6,0)","v":162875}]
[null,null,null,null,"без боковин",null,null,"1250х1090х1225",148435.32220939521,{"$f":"ROUND(I282*(1-$E$3)/Лист2!$A$6,0)","v":148435}]
[null,null,null,"ВПН Magnum Quadro 1875","с боковинами","-18...-15",1.62,"1330х1090х1225",199138.97173226855,{"$f":"ROUND(I283*(1-$E$3)/Лист2!$A$6,0)","v":199139}]
[null,null,null,null,"без боковин",null,null,"1875х1090х1225",184699.30778802803,{"$f":"ROUND(I284*(1-$E$3)/Лист2!$A$6,0)","v":184699}]
[null,null,null,"Среднетемпературные с низким стеклом, ВПС Self"]
[null,null,null,"Magnum Quadro Self 1250","с боковинами","0…+5",1.075,"1330х1090х860",125076.33418735056,{"$f":"ROUND(I286*(1-$E$3)/Лист2!$A$6,0)","v":125076}]
[null,null,null,null,"без боковин",null,null,"1250х1090х860",110636.67024311003,{"$f":"ROUND(I287*(1-$E$3)/Лист2!$A$6,0)","v":110637}]
[null,null,null,"Magnum Quadro Self 1875","с боковинами","0…+5",1.62,"1330х1090х860",154655.03763687657,{"$f":"ROUND(I288*(1-$E$3)/Лист2!$A$6,0)","v":154655}]
[null,null,null,null,"без боковин",null,null,"1875х1090х860",140215.37369263603,{"$f":"ROUND(I289*(1-$E$3)/Лист2!$A$6,0)","v":140215}]
[null,null,null,"Magnum Quadro Self 2500","с боковинами","0…+5",2.15,"2580х1090х860",179542.22259535853,{"$f":"ROUND(I290*(1-$E$3)/Лист2!$A$6,0)","v":179542}]
[null,null,null,null,"без боковин",null,null,"2500х1090х860",165102.55865111802,{"$f":"ROUND(I291*(1-$E$3)/Лист2!$A$6,0)","v":165103}]
[null,null,null,"Угловые витрины, ВПС"]
[null,null,null,"Magnum Quadro OC 90","с боковинами","0…+5",1.1919999999999999,"1400х1400х1225",174345.90161367203,{"$f":"ROUND(I293*(1-$E$3)/Лист2!$A$6,0)","v":174346}]
[null,null,null,null,"без боковин",null,null,"1360х1360х1225",159906.23766943149,{"$f":"ROUND(I294*(1-$E$3)/Лист2!$A$6,0)","v":159906}]
[null,null,null,"Magnum Quadro Q IC 90","с боковинами","0…+5",1.08,"1353х1353х1225",166628.84226916276,{"$f":"ROUND(I295*(1-$E$3)/Лист2!$A$6,0)","v":166629}]
[null,null,null,null,"без боковин",null,null,"1313х1313х1225",152189.17832492222,{"$f":"ROUND(I296*(1-$E$3)/Лист2!$A$6,0)","v":152189}]
[null,null,null,"Magnum Quadro Self OC 90","с боковинами","0…+5",1.1919999999999999,"1400х1400х860",166589.29108424427,{"$f":"ROUND(I297*(1-$E$3)/Лист2!$A$6,0)","v":166589}]
[null,null,null,null,"без боковин",null,null,"1360х1360х860",152149.62714000372,{"$f":"ROUND(I298*(1-$E$3)/Лист2!$A$6,0)","v":152150}]
[null,null,null,"Magnum Quadro Self IC 90","с боковинами","0…+5",1.08,"1353х1353х860",158959.52513389726,{"$f":"ROUND(I299*(1-$E$3)/Лист2!$A$6,0)","v":158960}]
[null,null,null,null,"без боковин",null,null,"1313х1313х860",144519.86118965672,{"$f":"ROUND(I300*(1-$E$3)/Лист2!$A$6,0)","v":144520}]
[null,null,null,"Рыбные витрины, ВСПН/ВПСН Self"]
[null,null,null,"Magnum Quadro Fish 1250 Д","с боковинами","0…+5",1.075,"1330х1090х1225",162874.98615363575,{"$f":"ROUND(I302*(1-$E$3)/Лист2!$A$6,0)","v":162875}]
[null,null,null,null,"без боковин",null,null,"1250х1090х1225",148435.32220939521,{"$f":"ROUND(I303*(1-$E$3)/Лист2!$A$6,0)","v":148435}]
[null,null,null,"Magnum Quadro Fish 1875 Д","с боковинами","0…+5",1.62,"1330х1090х1225",199138.97173226855,{"$f":"ROUND(I304*(1-$E$3)/Лист2!$A$6,0)","v":199139}]
[null,null,null,null,"без боковин",null,null,"1875х1090х1225",184699.30778802803,{"$f":"ROUND(I305*(1-$E$3)/Лист2!$A$6,0)","v":184699}]
[null,null,null,"Magnum Quadro Fish Self 1250 Д","с боковинами","0…+5",1.075,"1330х1090х860",153572.47053735054,{"$f":"ROUND(I306*(1-$E$3)/Лист2!$A$6,0)","v":153572}]
[null,null,null,null,"без боковин",null,null,"1250х1090х860",139132.80659311,{"$f":"ROUND(I307*(1-$E$3)/Лист2!$A$6,0)","v":139133}]
[null,null,null,"Magnum Quadro Fish Self 1875 Д","с боковинами","0…+5",1.62,"1330х1090х860",187096.53821187658,{"$f":"ROUND(I308*(1-$E$3)/Лист2!$A$6,0)","v":187097}]
[null,null,null,null,"без боковин",null,null,"1875х1090х860",172656.87426763604,{"$f":"ROUND(I309*(1-$E$3)/Лист2!$A$6,0)","v":172657}]
[]
[]
[]
[]
[]
[]
[null,null,null,null,null,null,null,"НАВЕРХ"]

{"sheet":"Охлаждаемые стеллажи","index":2,"n_rows":84,"n_cols":19,"rows_kept":84,"cut":false,"hidden":false,"merged":[[0,6,4,8],[12,4,12,8],[12,0,12,3],[32,4,32,8],[32,0,32,3],[11,10,11,13],[70,1,71,6],[70,0,71,0],[70,7,71,8],[30,1,31,6],[30,0,31,0],[30,7,31,8],[13,0,29,1],[13,2,13,8],[10,7,11,8],[14,2,15,2],[14,4,15,4],[64,8,65,8],[20,2,20,8],[40,2,40,8],[8,8,9,8],[21,4,22,4],[27,4,28,4],[59,10,59,13],[11,14,11,17],[55,4,56,4],[55,5,56,5],[57,2,58,2],[57,5,58,5],[70,10,70,13],[11,18,11,21],[5,0,7,8],[10,10,10,21],[30,10,30,21],[31,10,31,13],[31,14,31,17],[31,18,31,21],[50,10,50,13],[29,2,29,8],[16,2,17,2],[49,2,49,8],[33,2,33,8],[45,2,46,2],[45,4,46,4],[45,5,46,5],[47,2,48,2],[47,4,48,4],[47,5,48,5],[82,1,84,1],[80,2,81,2],[80,4,81,4],[61,2,61,4],[61,5,61,8],[68,6,69,6],[59,7,60,8],[36,4,37,4],[52,2,52,4],[52,0,58,1],[52,5,52,8],[59,0,60,0],[62,3,63,3],[68,7,69,7],[66,8,67,8],[66,7,67,7],[66,3,67,3],[64,7,65,7],[50,7,51,8],[50,1,51,6],[62,8,63,8],[80,7,81,8],[57,4,58,4],[83,6,84,6],[43,2,44,2],[43,4,44,4],[43,5,44,5],[34,2,35,2],[18,4,19,4],[27,5,28,5],[14,5,15,5],[38,4,39,4],[41,5,42,5],[80,5,81,5],[72,0,81,1],[68,4,69,4],[68,5,69,5],[62,4,63,4],[62,5,63,5],[64,2,65,2],[64,4,65,4],[64,5,65,5],[66,2,67,2],[66,4,67,4],[66,5,67,5],[62,2,63,2],[68,2,69,2],[68,3,69,3],[64,3,65,3],[10,0,11,0],[50,0,51,0],[72,2,79,8],[68,8,69,8],[66,6,67,6],[64,6,65,6],[62,6,63,6],[18,2,19,2],[61,0,69,1],[18,5,19,5],[59,1,60,6],[53,2,54,2],[53,4,54,4],[53,5,54,5],[55,2,56,2],[62,7,63,7],[34,4,35,4],[10,1,11,6],[38,5,39,5],[21,5,22,5],[34,5,35,5],[36,2,37,2],[27,2,28,2],[16,4,17,4],[8,5,9,5],[21,2,22,2],[0,9,0,10],[36,5,37,5],[38,2,39,2],[1,1,1,2],[2,1,2,2],[3,1,3,2],[8,0,9,0],[8,1,9,1],[8,2,9,3],[8,4,9,4],[33,0,49,1],[23,2,24,2],[23,4,24,4],[23,5,24,5],[25,2,26,2],[25,4,26,4],[25,5,26,5],[16,5,17,5],[8,6,9,6],[8,7,9,7],[41,2,42,2],[41,4,42,4]]}
[null,null,null,null,null,null,"ЗАВОД «ОПК»\nТел.: +7 (495) 987-4388\ne-mail: info@cryspi.ru\nсайт: cryspi.ru",null,null,"На главную"]
[]
[null,"Ваша скидка:",null,{"$f":"Содержание!D2","v":0}]
[null,"НДС:",null,{"$f":"IF(Лист2!A1=TRUE,\"С НДС\",\"БЕЗ НДС\")","v":"С НДС"}]
[]
["Охлаждаемые стеллажи Cryspi со встроенным агрегатом"]
[]
[]
["№","Изображение","Наименование",null,"Температурный режим,°C","Площадь экспозиции, кв.м.","Габариты, \n(LxWxH) мм","Базовая \nцена, руб.\n(с НДС)",{"$f":"[5]Лист2!$A$5","v":"Ваша цена, руб."}]
[]
[1,"Solo L7",null,null,null,null,null,"Опции SOLO L7",null,null,"СЕЧЕНИЯ"]
[null,null,null,null,null,null,null,null,null,null,"Solo L7",null,null,null,"Solo L7 Фруктовая",null,null,null,"Solo L7 DG"]
["Стандартная комплектация стеллажа:      \n- внутренний объем - оцинкованный металл\n- внутренняя поверхность ванны из оцинкованного пластификата (двойная защита от коррозии)\n- стандартные электродвигатели\n- электронный контроллер ",null,null,null,"- общее освещение - нейтральное (4000К)\n- цифровой термометр\n- 5 ярусов оцинкованных полок c кронштейнами и ценникодержателями глубиной 400 мм.\n- оттайка горячим газом для версий с остеклением                       \n  - комплект панорамных боковин                                                                                                                                                - система выпаривания конденсата (выпариватель)\n- деревянная усиленная упаковка опционально"]
[null,null,"Solo L7 Открытое исполнение  (ночные шторки)"]
[null,null,"Стеллаж холодильный ВПВ С (SOLO L7 1250) R290","с боковинами","+1…+7 С",2.8,"1330х700х2090",173792.30000000002,{"$f":"ROUND(H15*(1-$D$3)/Лист2!$A$6,0)","v":173792}]
[null,null,null,"без боковин",null,null,"1250х700х2090",150239.01199999999,{"$f":"ROUND(H16*(1-$D$3)/Лист2!$A$6,0)","v":150239}]
[null,null,"Стеллаж холодильный ВПВ С (SOLO L7 1500) R290","с боковинами","+1…+7 С",3.36,"1580х700х2090",200834.7,{"$f":"ROUND(H17*(1-$D$3)/Лист2!$A$6,0)","v":200835}]
[null,null,null,"без боковин",null,null,"1500х700х2090",177281.41199999998,{"$f":"ROUND(H18*(1-$D$3)/Лист2!$A$6,0)","v":177281}]
[null,null,"Стеллаж холодильный ВПВ С (SOLO L7 1875) R290","с боковинами","+1…+7 С",4.2,"1955х700х2090",216175.30000000002,{"$f":"ROUND(H19*(1-$D$3)/Лист2!$A$6,0)","v":216175}]
[null,null,null,"без боковин",null,null,"1875х700х2090",192622.01199999999,{"$f":"ROUND(H20*(1-$D$3)/Лист2!$A$6,0)","v":192622}]
[null,null,"Solo L7 DG. Фронтальный блок остекления - стеклопакет (DG - Double Glass)"]
[null,null,"Стеллаж холодильный ВПВ С (SOLO L7 DG 1250) R290","с боковинами","-1…+5 С",2.8,"1330х700х2090",192652.90000000002,{"$f":"ROUND(H22*(1-$D$3)/Лист2!$A$6,0)","v":192653}]
[null,null,null,"без боковин",null,null,"1250х700х2090",169099.61199999999,{"$f":"ROUND(H23*(1-$D$3)/Лист2!$A$6,0)","v":169100}]
[null,null,"Стеллаж холодильный ВПВ С (SOLO L7 DG 1500) R290","с боковинами","-1…+5 С",3.36,"1580х700х2090",209563.2,{"$f":"ROUND(H24*(1-$D$3)/Лист2!$A$6,0)","v":209563}]
[null,null,null,"без боковин",null,null,"1500х700х2090",186009.91200000001,{"$f":"ROUND(H25*(1-$D$3)/Лист2!$A$6,0)","v":186010}]
[null,null,"Стеллаж холодильный ВПВ С (SOLO L7 DG 1875) R290","с боковинами","-1…+5 С",4.2,"1955х700х2090",232650.00000000003,{"$f":"ROUND(H26*(1-$D$3)/Лист2!$A$6,0)","v":232650}]
[null,null,null,"без боковин",null,null,"1875х700х2090",209096.712,{"$f":"ROUND(H27*(1-$D$3)/Лист2!$A$6,0)","v":209097}]
[null,null,"Стеллаж холодильный ВПВ С (SOLO L7 DG 2500) R290","с боковинами","-1…+5 С",5.6,"2580х700х2090",332317.7,{"$f":"ROUND(H28*(1-$D$3)/Лист2!$A$6,0)","v":332318}]
[null,null,null,"без боковин",null,null,"2500х700х2090",308764.41200000007,{"$f":"ROUND(H29*(1-$D$3)/Лист2!$A$6,0)","v":308764}]
[null,null,"(Модуль 1250 мм. - 1 дверной блок (2 двери); 1875 мм. - 1 дверной блок (3 двери); 2500 мм. - 2 дверных блока по 2 двери)"]
[2,"Solo L9",null,null,null,null,null,"Опции SOLO L9"]
[null,null,null,null,null,null,null,null,null,null,"Solo L9",null,null,null,"Solo L9 Фруктовая",null,null,null,"Solo L9 DG"]
["Стандартная комплектация стеллажа:\n- внутренний объем - оцинкованный металл\n- внутренняя поверхность ванны из оцинкованного пластификата (двойная защита от коррозии)\n- стандартные вентиляторы\n- электронный контроллер \n",null,null,null,"- общее освещение - нейтральное (4000К)\n- цифровой термометр\n- 5 ярусов оцинкованных полок c кронштейнами и ценникодержателями глубиной 500 мм.\n-  оттайка горячим газом для версий с остеклением                        \n - комплект панорамных боковин                                                                                                                                                - система выпаривания конденсата (выпариватель)\n- деревянная усиленная упаковка опционально"]
[null,null,"Solo L9 Открытое исполнение (ночные шторки)"]
[null,null,"Стеллаж холодильный ВПВ С (SOLO L9 1250) R290","с боковинами","+1…+7 С",3.76,"1330х910х2090",186428.00000000003,{"$f":"ROUND(H35*(1-$D$3)/Лист2!$A$6,0)","v":186428}]
[null,null,null,"без боковин",null,null,"1250х910х2090",160754.91608,{"$f":"ROUND(H36*(1-$D$3)/Лист2!$A$6,0)","v":160755}]
[null,null,"Стеллаж холодильный ВПВ С (SOLO L9 1500) R290","с боковинами","+1…+7 С",4.51,"1580х910х2090",209159.50000000003,{"$f":"ROUND(H37*(1-$D$3)/Лист2!$A$6,0)","v":209160}]
[null,null,null,"без боковин",null,null,"1500х910х2090",183486.41608,{"$f":"ROUND(H38*(1-$D$3)/Лист2!$A$6,0)","v":183486}]
[null,null,"Стеллаж холодильный ВПВ С (SOLO L9 1875) R290","с боковинами","+1…+7 С",5.63,"1955х910х2090",231778.80000000002,{"$f":"ROUND(H39*(1-$D$3)/Лист2!$A$6,0)","v":231779}]
[null,null,null,"без боковин",null,null,"1875х910х2090",206105.71607999998,{"$f":"ROUND(H40*(1-$D$3)/Лист2!$A$6,0)","v":206106}]
[null,null,"Solo L9 DG. Фронтальный блок остекления - стеклопакет (DG - Double Glass)"]
[null,null,"Стеллаж холодильный ВПВ С (SOLO L9 DG 1250) R290","с боковинами","-1…+5 С",3.76,"1330х910х2090",208300.40000000002,{"$f":"ROUND(H42*(1-$D$3)/Лист2!$A$6,0)","v":208300}]
[null,null,null,"без боковин",null,null,"1250х910х2090",182627.31607999999,{"$f":"ROUND(H43*(1-$D$3)/Лист2!$A$6,0)","v":182627}]
[null,null,"Стеллаж холодильный ВПВ С (SOLO L9 DG 1500) R290","с боковинами","-1…+5 С",4.51,"1580х910х2090",226563.7,{"$f":"ROUND(H44*(1-$D$3)/Лист2!$A$6,0)","v":226564}]
[null,null,null,"без боковин",null,null,"1500х910х2090",200890.61607999998,{"$f":"ROUND(H45*(1-$D$3)/Лист2!$A$6,0)","v":200891}]
[null,null,"Стеллаж холодильный ВПВ С (SOLO L9 DG 1875) R290","с боковинами","-1…+5 С",5.63,"1955х910х2090",251604.1,{"$f":"ROUND(H46*(1-$D$3)/Лист2!$A$6,0)","v":251604}]
[null,null,null,"без боковин",null,null,"1875х910х2090",225931.01608,{"$f":"ROUND(H47*(1-$D$3)/Лист2!$A$6,0)","v":225931}]
[null,null,"Стеллаж холодильный ВПВ С (SOLO L9 DG 2500) R290","с боковинами","-1…+5 С",7.51,"2580х910х2090",368402.10000000003,{"$f":"ROUND(H48*(1-$D$3)/Лист2!$A$6,0)","v":368402}]
[null,null,null,"без боковин",null,null,"2500х910х2090",342729.01607999997,{"$f":"ROUND(H49*(1-$D$3)/Лист2!$A$6,0)","v":342729}]
[null,null,"(Модуль 1250 мм. - 1 дверной блок (2 двери); 1875 мм. - 1 дверной блок (3 двери); 2500 мм. - 2 дверных блока по 2 двери)"]
[3,"Solo L9 Light",null,null,null,null,null,"Опции Solo L9 Light",null,null,"Solo L9 Light"]
[]
[null,null,"Стандартная комплектация стеллажа:\n- внутренний объем -  черный крашенный металл\n- внутренняя поверхность ванны из оцинкованного пластификата (двойная защита от коррозии)\n- стандартные вентиляторы\n- электронный контроллер \n- общее освещение - нейтральное (4000К)",null,null,"- общее освещение - нейтральное (4000К)\n- цифровой термометр\n- 4 ярусов  полок c кронштейнами и ценникодержателями глубиной 500 мм.\n                                                                                                  \n - комплект  боковин глухих                                                                                                          - емкость для сбора талой воды (выпариватель доступен опционально);        \n- деревянная усиленная упаковка опционально"]
[null,null,"Стеллаж холодильный ВПВ С (SOLO L9 LIGHT 1250) R290 ","с боковинами","+1…+7 С",3.12,"1330х910х2090",142115.32984000002,{"$f":"ROUND(H54*(1-$D$3)/Лист2!$A$6,0)","v":142115}]
[null,null,null,"без боковин",null,null,"1250х910х2090",125062.3,{"$f":"ROUND(H55*(1-$D$3)/Лист2!$A$6,0)","v":125062}]
[null,null,"Стеллаж холодильный ВПВ С (SOLO L9 LIGHT 1500) R290 ","с боковинами","+1…+7 С",3.74,"1580х910х2090",158883.72983999999,{"$f":"ROUND(H56*(1-$D$3)/Лист2!$A$6,0)","v":158884}]
[null,null,null,"без боковин",null,null,"1500х910х2090",141830.69999999998,{"$f":"ROUND(H57*(1-$D$3)/Лист2!$A$6,0)","v":141831}]
[null,null,"Стеллаж холодильный ВПВ С (SOLO L9 LIGHT 1875) R290 ","с боковинами","+1…+7 С",4.67,"1955х910х2090",175916.12983999998,{"$f":"ROUND(H58*(1-$D$3)/Лист2!$A$6,0)","v":175916}]
[null,null,null,"без боковин",null,null,"1875х910х2090",158863.1,{"$f":"ROUND(H59*(1-$D$3)/Лист2!$A$6,0)","v":158863}]
[4,"Solo SML",null,null,null,null,null,"Опции Solo SML",null,null,"Solo SML"]
[]
[null,null,"Стандартная комплектация стеллажа:\n- Внутренняя поверхность ванны из оцинкованного пластификата (двойная защита от коррозии)\n- стандартные вентиляторы\n- контроллер \n- общее освещение - нейтральное (4500К)\n- 3 яруса оцинкованных полок c кронштейнами и ценникодержателями (300, 400, 500 мм)",null,null,"- с автоматической системой выпаривания конденсата\n- Комплект ночных шторок\n-  оттайка горячим газом\n- Электронный контроллер \n- Цифровой термометр\n- Без противоударного бампера\n- Деревянная упаковка опционально"]
[null,null,"Стеллаж холодильный ВПВ С (SOLO SML 1250 Д) R290","с боковинами","+1...+10 С",2.4300000000000002,"1300х854х1600",179529,{"$f":"ROUND(H63*(1-$D$3)/Лист2!$A$6,0)","v":179529}]
[]
[null,null,"Стеллаж холодильный ВПВ С (SOLO SML 1250 Д) R290 ББ","без боковин","+1...+10 С",2.4300000000000002,"1250х854х1600",170225,{"$f":"ROUND(H65*(1-$D$3)/Лист2!$A$6,0)","v":170225}]
[]
[null,null,"Стеллаж холодильный ВПВ С (SOLO SML 1875 Д) R290","с боковинами","+1...+10 С",3.64,"1925х854х1600",233387,{"$f":"ROUND(H67*(1-$D$3)/Лист2!$A$6,0)","v":233387}]
[]
[null,null,"Стеллаж холодильный ВПВ С (SOLO SML 1875 Д) R290 ББ","без боковин","+1...+10 С",3.64,"1875х854х1600",206130,{"$f":"ROUND(H69*(1-$D$3)/Лист2!$A$6,0)","v":206130}]
[]
[5,"UNIT L9",null,null,null,null,null,"Опции UNIT",null,null,"UNIT L9"]
[]
[null,null,"Стандартная комплектация:\n- LED подсветка в стойках и верхняя (4000К)\n- Кассетный компресссорный блок EMBRACO R-290\n- Дверной блок со стеклопакетом\n- Оцинкованные элементы внутреннего объёма\n- 5 ярусов оцинкованных полок с кронштейнами и ценникодержателями\n\n"]
[]
[]
[]
[]
[]
[]
[]
[null,null,"Стеллаж холодильный ВПВ C (Cryspi Unit L91250 Д)","с боковинами","0...+2, +2...+4, +4...+6",3.76,"1330x880x2310","По запросу"]
[null,null,null,"без боковин",null,null,"1250x880x2310"]
[]
[null,null,null,null,null,null,"НАВЕРХ"]

{"sheet":"Кондитерские витрины","index":3,"n_rows":53,"n_cols":21,"rows_kept":53,"cut":false,"hidden":false,"merged":[[5,0,7,8],[0,6,4,8],[18,2,18,8],[11,20,11,24],[11,15,11,19],[11,10,11,14],[10,10,10,24],[8,4,9,4],[8,5,9,5],[13,2,13,8],[12,4,12,8],[13,0,40,1],[25,2,25,3],[26,2,26,3],[27,2,27,3],[22,2,22,3],[43,2,43,4],[43,5,43,8],[44,2,44,8],[43,0,50,1],[51,1,53,1],[52,6,53,6],[41,0,42,0],[40,2,40,3],[31,2,31,3],[32,2,32,3],[23,2,23,8],[28,2,28,8],[33,2,33,8],[36,2,36,8],[37,2,37,3],[38,2,38,3],[39,2,39,3],[34,2,34,3],[35,2,35,3],[29,2,29,3],[30,2,30,3],[24,2,24,3],[14,2,14,3],[15,2,15,3],[16,2,16,3],[17,2,17,3],[19,2,19,3],[41,1,42,8],[12,0,12,3],[1,1,1,2],[2,1,2,2],[3,1,3,2],[8,6,9,6],[8,7,9,7],[8,8,9,8],[10,0,11,0],[10,1,11,6],[10,7,11,8],[8,0,9,0],[8,1,9,1],[8,2,9,3],[20,2,20,3],[21,2,21,3]]}
[null,null,null,null,null,null,"ЗАВОД «ОПК»\nТел.: +7 (495) 987-4388\ne-mail: info@cryspi.ru\nсайт: cryspi.ru",null,null,"На главную"]
[]
[null,"Ваша скидка:",null,{"$f":"Содержание!D2","v":0}]
[null,"НДС:",null,{"$f":"IF(Лист2!A1=TRUE,\"С НДС\",\"БЕЗ НДС\")","v":"С НДС"}]
[]
["Кондитерские витрины Cryspi со встроенным агрегатом"]
[]
[]
["№","Изображение","Наименование",null,"Температурный режим,°C","Площадь экспозиции, кв.м.","Габариты, \n(LxWxH) мм","Базовая \nцена, руб.\n(с НДС)",{"$f":"[5]Лист2!$A$5","v":"Ваша цена, руб."}]
[]
[1,"ADAGIO",null,null,null,null,null,"Опции Adagio",null,null,"СЕЧЕНИЯ"]
[null,null,null,null,null,null,null,null,null,null,"ADAGIO",null,null,null,null,"ADAGIO CUBE",null,null,null,null,"ELEGIA"]
["Стандартная комплектация:               \n- 3 уровня навесных полок, 230, 320, 380 мм (Adagio/Adagio LX),  380 мм (Adagio Cube/Adagio LX Cube); \n- подсветка всех полок (нейтральный или теплый спектр) \n- фронтальная металическая панель\n- Возможно применение фронтальной панели из ЛДСП с наценкой в 4%.\n- Компрессор Embraco, хладагент R-290\n- Электронный контроллер Carel\n- Цифровой термометр на фронтальной части столешницы",null,null,null,"- Оттайка испарителя естественным способом; Автоматическое выпаривание конденсата\n- Задняя дверца - оргстекло (Adagio),  закаленный стеклопакет (Adagio LX);\n- Вентилируемое (динамическое) охлаждение\n- Внутренний объем - сталь оцинкованная\n- зона выкладки - сталь оцинкованна с покраской\n- шелкография стекол черного цвета (Ral 9005)\n- Деревянная упаковка;                                                                                                                                                                  "]
[null,null,"Витрины охлаждаемые, кондитерские, закаленное стекло"]
[null,null,"Витрина холодильная ВПВ (ADAGIO 900 Д)",null,"+6..+12°С",1.27,"900х620х1330",87062.258800000011,{"$f":"ROUND(H15*(1-$D$3)/Лист2!$A$6,0)","v":87062}]
[null,null,"Витрина холодильная ВПВ (ADAGIO 1300 Д)",null,"+6..+12°С",1.58,"1300Х620Х1330",93858.344800000021,{"$f":"ROUND(H16*(1-$D$3)/Лист2!$A$6,0)","v":93858}]
[null,null,"Витрина холодильная ВПВ (ADAGIO Cube 900 Д)",null,"+6..+12°С",1.46,"900х620х1330",87062.258800000011,{"$f":"ROUND(H17*(1-$D$3)/Лист2!$A$6,0)","v":87062}]
[null,null,"Витрина холодильная ВПВ (ADAGIO Cube 1300 Д)",null,"+6..+12°С",1.83,"1300Х620Х1330",93858.344800000021,{"$f":"ROUND(H18*(1-$D$3)/Лист2!$A$6,0)","v":93858}]
[null,null,"Витрины охлаждаемые, кондитерские, закаленный стеклопакет"]
[null,null,"Витрина холодильная ВПС (ADAGIO LX 900 Д)",null,"0..+7°С",1.27,"900х620х1330",114483.71440000001,{"$f":"ROUND(H20*(1-$D$3)/Лист2!$A$6,0)","v":114484}]
[null,null,"Витрина холодильная ВПС (ADAGIO LX 1300 Д)",null,"0..+7°С",1.58,"1300Х620Х1330",135551.02440000002,{"$f":"ROUND(H21*(1-$D$3)/Лист2!$A$6,0)","v":135551}]
[null,null,"Витрина холодильная ВПС (ADAGIO LX Cube 900 Д)",null,"0..+7°С",1.46,"900х620х1330",114483.71440000001,{"$f":"ROUND(H22*(1-$D$3)/Лист2!$A$6,0)","v":114484}]
[null,null,"Витрина холодильная ВПС (ADAGIO LX Cube 1300 Д)",null,"0..+7°С",1.83,"1300Х620Х1330",135551.02440000002,{"$f":"ROUND(H23*(1-$D$3)/Лист2!$A$6,0)","v":135551}]
[null,null,"Витрины для самообслуживания охлаждаемые, кондитерские "]
[null,null,"Витрина холодильная ВПВ (ADAGIO Self  900 Д)",null,"+1..+10°С",1.27,"900х620х1330",128138.22560000002,{"$f":"ROUND(H25*(1-$D$3)/Лист2!$A$6,0)","v":128138}]
[null,null,"Витрина холодильная ВПВ (ADAGIO Self 1300 Д)",null,"+1..+10°С",1.58,"1300Х620Х1330",151445.29400000002,{"$f":"ROUND(H26*(1-$D$3)/Лист2!$A$6,0)","v":151445}]
[null,null,"Витрина холодильная ВПВ (ADAGIO Self Cube 900 Д)",null,"+1..+10°С",1.46,"900х620х1330",129918.23240000001,{"$f":"ROUND(H27*(1-$D$3)/Лист2!$A$6,0)","v":129918}]
[null,null,"Витрина холодильная ВПВ (ADAGIO Self Cube 1300 Д)",null,"+1..+10°С",1.83,"1300Х620Х1330",153518.07240000003,{"$f":"ROUND(H28*(1-$D$3)/Лист2!$A$6,0)","v":153518}]
[null,null,"Витрины нейтральные, кондитерские без охлаждения для самообслуживания"]
[null,null,"Витрина нейтральная ВП (ADAGIO N Self 900)",null,"-",1.27,"900х620х1330",67483.297200000015,{"$f":"ROUND(H30*(1-$D$3)/Лист2!$A$6,0)","v":67483}]
[null,null,"Витрина нейтральная ВП (ADAGIO N Self 1300)",null,"-",1.58,"1300Х620Х1330",75017.434800000017,{"$f":"ROUND(H31*(1-$D$3)/Лист2!$A$6,0)","v":75017}]
[null,null,"Витрина холодильная ВПВ (ADAGIO N Self Cube 900 Д)",null,"-",1.46,"900х620х1330",69345.680800000016,{"$f":"ROUND(H32*(1-$D$3)/Лист2!$A$6,0)","v":69346}]
[null,null,"Витрина холодильная ВПВ (ADAGIO N Self Cube 1300 Д)",null,"-",1.83,"1300Х620Х1330",73041.50480000001,{"$f":"ROUND(H33*(1-$D$3)/Лист2!$A$6,0)","v":73042}]
[null,null,"Витрины нейтральные, кондитерские без охлаждения для самообслуживания. Хлебная модификация"]
[null,null,"Витрина холодильная ВПВ (ADAGIO N Self Cube 900 Д)",null,"-",1.46,"900х620х1330",65983.816800000001,{"$f":"ROUND(H35*(1-$D$3)/Лист2!$A$6,0)","v":65984}]
[null,null,"Витрина холодильная ВПВ (ADAGIO N Self Cube 1300 Д)",null,"-",1.83,"1300Х620Х1330",71042.1976,{"$f":"ROUND(H36*(1-$D$3)/Лист2!$A$6,0)","v":71042}]
[null,null,"Кассовый нейтральный прилавок (КНП) "]
[null,null,"Прилавок КНП ADAGIO 600 (фронтальные панели металл)",null,"-","-","600х650х906",21916.6816,{"$f":"ROUND(H38*(1-$D$3)/Лист2!$A$6,0)","v":21917}]
[null,null,"Прилавок КНП ADAGIO 900 (фронтальные панели металл)",null,"-","-","900Х650Х906",26650.008000000002,{"$f":"ROUND(H39*(1-$D$3)/Лист2!$A$6,0)","v":26650}]
[null,null,"Прилавок КНП ADAGIO 600 (фронтальные панели ЛДСП)",null,"-","-","600х650х906",24089.981960000001,{"$f":"ROUND(H40*(1-$D$3)/Лист2!$A$6,0)","v":24090}]
[null,null,"Прилавок КНП ADAGIO 900 (фронтальные панели ЛДСП)",null,"-","-","900Х650Х906",27892.339200000002,{"$f":"ROUND(H41*(1-$D$3)/Лист2!$A$6,0)","v":27892}]
[2,"ELEGIA QUADRO"]
[]
[null,null,"Стандартная комплектация:\n- Компрессор Embraco, хладагент R-290\n- стеклопакеты по периметру;\n",null,null,"- фронтальное стекло (кроме версии SELF);\n- выпариватель;\n- LED подсветка в стойках и полках\n- ТЭНы оттайки испарителей\n- Деревянная упаковка"]
[]
[null,null,"Elegia Quadro К 850",null,"+1...+10",1.23,"850х764х1312",143538.03200000004,{"$f":"ROUND(H46*(1-$D$3)/Лист2!$A$6,0)","v":143538}]
[null,null,"Elegia Quadro К 1000",null,"+1...+10",1.46,"1 000×764×1 312",158286.92000000001,{"$f":"ROUND(H47*(1-$D$3)/Лист2!$A$6,0)","v":158287}]
[null,null,"Elegia Quadro K 1250",null,"+1...+10",1.85,"1 250×764×1 312",173157.24799999999,{"$f":"ROUND(H48*(1-$D$3)/Лист2!$A$6,0)","v":173157}]
[null,null,"Elegia Quadro SELF 1000 (для самообслуживания)",null,"+1...+10",1.39,"1 000×764×1 312",158286.92000000001,{"$f":"ROUND(H49*(1-$D$3)/Лист2!$A$6,0)","v":158287}]
[null,null,"Elegia Quadro SELF 1250 (для самообслуживания)",null,"+1...+10",1.72,"1 254×764×1 312",159010.5,{"$f":"ROUND(H50*(1-$D$3)/Лист2!$A$6,0)","v":159011}]
[null,null,"Прилавок КНП Elegia Quadro 600",null,"-","-","600х764х870",25554.012000000002,{"$f":"ROUND(H51*(1-$D$3)/Лист2!$A$6,0)","v":25554}]
[]
[null,null,null,null,null,null,"НАВЕРХ"]

{"sheet":"Gamma в линию","index":4,"n_rows":34,"n_cols":51,"rows_kept":34,"cut":false,"hidden":true,"merged":[[32,2,32,44],[32,45,32,49],[33,2,33,44],[33,45,33,49],[30,2,30,25],[30,26,30,44],[30,45,30,49],[31,2,31,25],[31,26,31,44],[31,45,31,49],[22,41,25,41],[28,2,28,44],[28,45,28,49],[29,2,29,25],[29,26,29,44],[29,45,29,49],[22,2,25,2],[22,4,25,13],[22,15,25,15],[22,17,25,26],[22,28,25,28],[22,30,25,39],[17,2,17,44],[17,45,17,49],[12,2,12,44],[12,45,12,49],[13,2,13,25],[13,26,13,44],[13,45,13,49],[14,2,14,25],[14,26,14,44],[14,45,14,49],[15,2,15,25],[15,26,15,44],[15,45,15,49],[16,2,16,44],[16,45,16,49],[1,0,1,49],[2,0,2,49],[6,2,9,2],[6,4,9,13],[6,15,9,24],[6,26,9,35],[6,37,9,37]]}
["Примечания:",null,null,null,null,null,null,null,null,null,null,null,null,null,null,null,null,null,null,null,null,null,null,null,null,null,null,null,null,null,null,null,null,null,null,null,null,null,null,null,null,null,null,null,null,null,null,null,null,null,"В содержание"]
["1. Витрины с различными температурными режимами желательно разделять боковинами"]
["2. В комплект герметичного разделителя входит комплект соединительный"]
[]
["1. Линия витрин GAMMA-2"]
[]
[null,null,"боковина",null,"GAMMA-2 ББ",null,null,null,null,null,null,null,null,null,null,"GAMMA-2 ББ",null,null,null,null,null,null,null,null,null,null,"GAMMA-2 ББ",null,null,null,null,null,null,null,null,null,null,"боковина"]
[]
[]
[]
[]
[null,null,"Вариант спецификации"]
[null,null,"Наименование",null,null,null,null,null,null,null,null,null,null,null,null,null,null,null,null,null,null,null,null,null,null,null,null,null,null,null,null,null,null,null,null,null,null,null,null,null,null,null,null,null,null,"Кол-во"]
[null,null,"Gamma-2 1200",null,null,null,null,null,null,null,null,null,null,null,null,null,null,null,null,null,null,null,null,null,null,null,"без боковин",null,null,null,null,null,null,null,null,null,null,null,null,null,null,null,null,null,null,1]
[null,null,"Gamma-2 1500",null,null,null,null,null,null,null,null,null,null,null,null,null,null,null,null,null,null,null,null,null,null,null,"без боковин",null,null,null,null,null,null,null,null,null,null,null,null,null,null,null,null,null,null,1]
[null,null,"Gamma-2 1800",null,null,null,null,null,null,null,null,null,null,null,null,null,null,null,null,null,null,null,null,null,null,null,"без боковин",null,null,null,null,null,null,null,null,null,null,null,null,null,null,null,null,null,null,1]
[null,null,"Комплект соединительный 337.50.00.00 для ВПС/ВПСН/ВПН Gamma-2",null,null,null,null,null,null,null,null,null,null,null,null,null,null,null,null,null,null,null,null,null,null,null,null,null,null,null,null,null,null,null,null,null,null,null,null,null,null,null,null,null,null,2]
[null,null,"Комплект боковин 337.40.00.00 для ВПС/ВПСН Gamma 2",null,null,null,null,null,null,null,null,null,null,null,null,null,null,null,null,null,null,null,null,null,null,null,null,null,null,null,null,null,null,null,null,null,null,null,null,null,null,null,null,null,null,1]
[]
[]
["2. Линия витрин GAMMA-2 через герметичный разделитель"]
[]
[null,null,"боковина",null,"GAMMA-2 ББ",null,null,null,null,null,null,null,null,null,null,"герм.разд.",null,"GAMMA-2 ББ",null,null,null,null,null,null,null,null,null,null,"герм.разд.",null,"GAMMA-2 ББ",null,null,null,null,null,null,null,null,null,null,"боковина"]
[]
[]
[]
[]
[null,null,"Вариант спецификации"]
[null,null,"Наименование",null,null,null,null,null,null,null,null,null,null,null,null,null,null,null,null,null,null,null,null,null,null,null,null,null,null,null,null,null,null,null,null,null,null,null,null,null,null,null,null,null,null,"Кол-во"]
[null,null,"Gamma-2 1200",null,null,null,null,null,null,null,null,null,null,null,null,null,null,null,null,null,null,null,null,null,null,null,"без боковин",null,null,null,null,null,null,null,null,null,null,null,null,null,null,null,null,null,null,1]
[null,null,"Gamma-2 1500",null,null,null,null,null,null,null,null,null,null,null,null,null,null,null,null,null,null,null,null,null,null,null,"без боковин",null,null,null,null,null,null,null,null,null,null,null,null,null,null,null,null,null,null,1]
[null,null,"Gamma-2 1800",null,null,null,null,null,null,null,null,null,null,null,null,null,null,null,null,null,null,null,null,null,null,null,"без боковин",null,null,null,null,null,null,null,null,null,null,null,null,null,null,null,null,null,null,1]
[null,null,"Комплект герметичного разделителя 337.83.00.00 для ВПС/ВПСН/ВПН Gamma-2",null,null,null,null,null,null,null,null,null,null,null,null,null,null,null,null,null,null,null,null,null,null,null,null,null,null,null,null,null,null,null,null,null,null,null,null,null,null,null,null,null,null,2]
[null,null,"Комплект боковин 337.40.00.00 для ВПС/ВПСН Gamma 2",null,null,null,null,null,null,null,null,null,null,null,null,null,null,null,null,null,null,null,null,null,null,null,null,null,null,null,null,null,null,null,null,null,null,null,null,null,null,null,null,null,null,1]

{"sheet":"Низкотемпературные шкафы","index":5,"n_rows":40,"n_cols":21,"rows_kept":40,"cut":false,"hidden":false,"merged":[[10,10,10,24],[11,20,11,24],[11,14,11,19],[11,10,11,13],[5,0,7,8],[8,6,9,6],[8,7,9,7],[8,8,9,8],[10,0,11,0],[8,4,9,4],[8,5,9,5],[38,1,40,1],[39,6,40,6],[10,1,11,8],[19,1,20,8],[12,0,18,1],[14,2,17,3],[14,8,17,8],[14,7,17,7],[29,0,37,1],[29,2,29,4],[29,5,29,8],[30,4,31,4],[30,5,31,5],[32,4,33,4],[32,5,33,5],[36,4,37,4],[27,0,28,0],[27,1,28,8],[36,2,37,3],[34,2,35,3],[34,4,35,4],[34,5,35,5],[32,2,33,3],[36,6,37,6],[34,6,35,6],[32,6,33,6],[30,6,31,6],[36,8,37,8],[36,7,37,7],[34,8,35,8],[34,7,35,7],[32,7,33,7],[30,2,31,3],[21,2,21,4],[21,5,21,8],[22,2,22,8],[36,5,37,5],[23,8,26,8],[23,7,26,7],[23,6,26,6],[23,5,26,5],[23,4,26,4],[32,8,33,8],[30,8,31,8],[30,7,31,7],[19,0,20,0],[21,0,26,1],[14,6,17,6],[14,5,17,5],[12,2,12,4],[12,5,12,8],[13,2,13,8],[23,2,26,3],[14,4,17,4],[18,2,18,8],[0,6,4,8],[1,1,1,2],[2,1,2,2],[3,1,3,2],[8,0,9,0],[8,1,9,1],[8,2,9,3]]}
[null,null,null,null,null,null,"ЗАВОД «ОПК»\nТел.: +7 (495) 987-4388\ne-mail: info@cryspi.ru\nсайт: cryspi.ru",null,null,"На главную"]
[]
[null,"Ваша скидка:",null,{"$f":"Содержание!D2","v":0}]
[null,"НДС:",null,{"$f":"IF(Лист2!A1=TRUE,\"С НДС\",\"БЕЗ НДС\")","v":"С НДС"}]
[]
["Низкотемпературные шкафы Cryspi со встроенным агрегатом"]
[]
[]
["№","Изображение","Наименование",null,"Температурный режим,°C","Площадь экспозиции, кв.м.","Габариты, \n(LxWxH) мм","Базовая \nцена, руб.\n(с НДС)",{"$f":"[5]Лист2!$A$5","v":"Ваша цена, руб."}]
[]
[1,"Шкаф-надстройка Verona",null,null,null,null,null,null,null,null,"СЕЧЕНИЯ"]
[null,null,null,null,null,null,null,null,null,null,"VERONA",null,null,null,"CORSA",null,null,null,null,null,"ANZIO"]
[null,null,"Стандартная комплектация:     \n- подставка с комплектом крепежа\n- светодиодная подсветка внутреннего объема (4500К, 6500К) без изменения цены\n- автоматическая оттайка горячим газом\n- автоматическое выпаривание конденсата\n- 4 уровня решетчатых полок\n",null,null,"Тип охлаждения - динамический\n- Климатический класс - 3\n- Температура окружающей среды, С°  - max +25\n- Относительная влажность воздуха, % - max 60\n- Хладагент - R290\n- Напряжение, В - 220"]
[]
[null,null,"Шкаф низкотемпературный ШН Verona 1220",null,"-23…-18",1.0760000000000001,"1217х750х2210",171923,{"$f":"ROUND(H15*(1-$D$3)/Лист2!$A$6,0)","v":171923}]
[]
[]
[]
[null,null,"Надстройка для ларя 400 л."]
[2,"CORSA"]
[]
[null,null,"Стандартная комплектация:     \n- подставка с комплектом крепежа\n- светодиодная подсветка внутреннего объема\n- автоматическая оттайка горячим газом\n- автоматическое выпаривание конденсата\n- 2 уровня решетчатых полок\n",null,null,"- Тип охлаждения - динамический \n- Климатический класс - 3 \n- Температура окружающей среды, С°  max - +25 \n- Относительная влажность воздуха,%  max - 60 \n- Хладагент - R404a \n- Напряжение, В - 220"]
[]
[null,null,"Шкаф низкотемпературный ШН 0,73-2,8 CORSA LT 2500",null,"-23…-18",2.71,"2500х1020х2480",514935,{"$f":"ROUND(H24*(1-$D$3)/Лист2!$A$6,0)","v":514935}]
[]
[]
[]
[3,"ANZIO"]
[]
[null,null,"\nОпции:\nСистема выпаривания конденсата + 1,5% к цене шкафа\n\nСтандартная комплектация:     \n- светодиодная подсветка внутреннего объема (4000/6000К) верхняя и вертикальная \n- автоматическая оттайка горячим газом\n- сифон для подключения к канализации\n- 4 уровня решетчатых полок с ценникодержателями \n- базовые полки-решетки",null,null,"- Тип охлаждения - динамический \n- Климатический класс - 3 \n- Температура окружающей среды, С°  max - +25 \n- Относительная влажность воздуха,%  max - 60 \n- Хладагент - R 290 \n- Напряжение, В - 220 "]
[null,null,"Шкаф низкотемпературный ШН-1.20-4.0 ANZIO LT 2D 1562R290",null,"-22…-18",4,"1684х885х2210",326348,{"$f":"ROUND(H31*(1-$D$3)/Лист2!$A$6,0)","v":326348}]
[]
[null,null,"Шкаф низкотемпературный ШН 1.80-6.0 ANZIO LT 3D 2343R290",null,"-22…-18",6.02,"2465х885х2210",527065,{"$f":"ROUND(H33*(1-$D$3)/Лист2!$A$6,0)","v":527065}]
[]
[null,null,"Полка сетчатая навесная с кронштейнами 780x513 мм для Anzio/Milan с ограничителем (775.58.00.00)",null,"-","-","-",2068,{"$f":"ROUND(H35*(1-$D$3)/Лист2!$A$6,0)","v":2068}]
[]
[null,null,"Ценникодержатель съемный, L=1000 мм, прозрачный, откидной (на полки, рёшётку) (845.00.00.11)",null,"-","-","-",158,{"$f":"ROUND(H37*(1-$D$3)/Лист2!$A$6,0)","v":158}]
[]
[]
[null,null,null,null,null,null,"НАВЕРХ"]

{"sheet":"Лари ItalFrost","index":6,"n_rows":98,"n_cols":22,"rows_kept":98,"cut":false,"hidden":false,"merged":[[30,0,30,8],[75,0,75,8],[88,4,92,4],[78,9,78,11],[79,9,79,11],[80,9,80,11],[81,9,81,11],[82,9,82,11],[26,2,27,2],[40,2,41,2],[40,4,41,4],[40,5,41,5],[40,6,41,6],[38,2,39,2],[88,2,88,3],[87,2,87,3],[86,2,86,3],[85,2,85,3],[92,2,92,3],[91,2,91,3],[90,2,90,3],[89,2,89,3],[81,0,84,1],[85,0,87,1],[62,4,63,4],[62,5,63,5],[62,6,63,6],[38,4,39,4],[38,5,39,5],[38,6,39,6],[31,1,31,8],[32,0,41,1],[32,2,33,2],[32,4,33,4],[32,5,33,5],[32,6,33,6],[34,2,35,2],[34,4,35,4],[34,5,35,5],[34,6,35,6],[47,6,48,6],[15,5,16,5],[13,5,14,5],[11,5,12,5],[9,5,10,5],[9,0,18,1],[28,6,29,6],[28,5,29,5],[28,4,29,4],[26,4,27,4],[26,5,27,5],[26,6,27,6],[24,6,25,6],[24,5,25,5],[24,4,25,4],[22,6,23,6],[22,5,23,5],[22,4,23,4],[24,2,25,2],[22,2,23,2],[13,6,14,6],[88,1,92,1],[65,5,66,5],[65,6,66,6],[76,1,76,8],[77,0,79,1],[80,1,80,8],[58,2,59,2],[58,4,59,4],[58,5,59,5],[58,6,59,6],[60,2,61,2],[60,4,61,4],[60,5,61,5],[60,6,61,6],[54,0,63,1],[54,2,55,2],[54,4,55,4],[54,5,55,5],[54,6,55,6],[56,2,57,2],[56,4,57,4],[56,5,57,5],[56,6,57,6],[62,2,63,2],[73,2,74,2],[73,4,74,4],[73,5,74,5],[73,6,74,6],[67,2,68,2],[67,4,68,4],[67,5,68,5],[67,6,68,6],[69,2,70,2],[69,4,70,4],[69,5,70,5],[69,6,70,6],[1,0,1,1],[2,0,2,1],[3,0,3,1],[6,8,7,8],[71,2,72,2],[71,4,72,4],[71,5,72,5],[71,6,72,6],[64,1,64,8],[65,0,74,1],[65,2,66,2],[65,4,66,4],[20,6,21,6],[20,5,21,5],[20,4,21,4],[28,2,29,2],[4,0,5,8],[53,1,53,8],[20,2,21,2],[20,0,29,1],[9,2,10,2],[17,6,18,6],[11,6,12,6],[47,5,48,5],[8,1,8,8],[6,0,7,0],[6,1,7,1],[6,2,7,3],[6,4,7,4],[6,5,7,5],[6,6,7,6],[36,2,37,2],[36,4,37,4],[36,5,37,5],[36,6,37,6],[19,1,19,8],[17,4,18,4],[15,4,16,4],[13,4,14,4],[11,4,12,4],[9,4,10,4],[17,2,18,2],[15,2,16,2],[13,2,14,2],[11,2,12,2],[15,6,16,6],[9,6,10,6],[17,5,18,5],[84,2,84,3],[6,9,7,13],[97,7,98,7],[42,1,42,8],[43,0,52,1],[43,2,44,2],[43,4,44,4],[43,5,44,5],[43,6,44,6],[49,2,50,2],[49,4,50,4],[49,5,50,5],[49,6,50,6],[51,2,52,2],[51,4,52,4],[51,5,52,5],[51,6,52,6],[45,2,46,2],[45,4,46,4],[45,5,46,5],[45,6,46,6],[47,2,48,2],[47,4,48,4],[6,7,7,7]]}
[null,null,null,null,null,null,null,null,null,"На главную"]
[]
["Ваша скидка:",null,{"$f":"Содержание!D2","v":0}]
["НДС:",null,{"$f":"IF(Лист2!A1=TRUE,\"С НДС\",\"БЕЗ НДС\")","v":"С НДС"}]
["Морозильные и холодильные лари Italfrost"]
[]
["№","Изображение","Наименование",null,"Температур-ный режим, °C","Объем, л","Габариты, \n(LxWxH) мм","Базовая \nцена, руб.\n(с НДС)",{"$f":"Лист2!$A$5","v":"Ваша цена, руб."},"Нажмите для расчета стоимости брендирования"]
[]
[1,"Морозильные лари с гнутыми раздвижными стеклами",null,null,null,null,null,null,null,null,"Сечение ларей с радиусной стеклянной крышкой",null,null,null,null,null,null,null,null,null,null,"Сечение ларей с радиусной стеклянной крышкой и товарным накопителем"]
[null,null,"CF200C","без корзин","-18…-25",235,"807х662х925",36336,{"$f":"ROUND(H10*(1-$C$3)/Лист2!$A$6,0)","v":36336}]
[null,null,null,"3 корзины",null,null,null,37993,{"$f":"ROUND(H11*(1-$C$3)/Лист2!$A$6,0)","v":37993}]
[null,null,"CF300C","без корзин","-18…-25",319,"1017х662х925",39936,{"$f":"ROUND(H12*(1-$C$3)/Лист2!$A$6,0)","v":39936}]
[null,null,null,"4 корзины",null,null,null,42144,{"$f":"ROUND(H13*(1-$C$3)/Лист2!$A$6,0)","v":42144}]
[null,null,"CF400C","без корзин","-18…-25",398,"1217х662х925",43299,{"$f":"ROUND(H14*(1-$C$3)/Лист2!$A$6,0)","v":43299}]
[null,null,null,"5 корзин",null,null,null,46060,{"$f":"ROUND(H15*(1-$C$3)/Лист2!$A$6,0)","v":46060}]
[null,null,"CF500C","без корзин","-18…-25",485,"1437х662х925",47317,{"$f":"ROUND(H16*(1-$C$3)/Лист2!$A$6,0)","v":47317}]
[null,null,null,"6 корзин",null,null,null,50630,{"$f":"ROUND(H17*(1-$C$3)/Лист2!$A$6,0)","v":50630}]
[null,null,"CF600C","без корзин","-18…-25",572,"1657х662х925",50871,{"$f":"ROUND(H18*(1-$C$3)/Лист2!$A$6,0)","v":50871}]
[null,null,null,"7 корзин",null,null,null,54736,{"$f":"ROUND(H19*(1-$C$3)/Лист2!$A$6,0)","v":54736}]
[2,"Морозильные лари с прямыми раздвижными стеклами"]
[null,null,"CF200F","без корзин","-18…-25",235,"807х662х925",35306,{"$f":"ROUND(H21*(1-$C$3)/Лист2!$A$6,0)","v":35306}]
[null,null,null,"3 корзины",null,null,null,36744,{"$f":"ROUND(H22*(1-$C$3)/Лист2!$A$6,0)","v":36744}]
[null,null,"CF300F","без корзин","-18…-25",319,"1017х662х925",39207,{"$f":"ROUND(H23*(1-$C$3)/Лист2!$A$6,0)","v":39207}]
[null,null,null,"4 корзины",null,null,null,41126,{"$f":"ROUND(H24*(1-$C$3)/Лист2!$A$6,0)","v":41126}]
[null,null,"CF400F","без корзин","-18…-25",398,"1217х662х925",43172,{"$f":"ROUND(H25*(1-$C$3)/Лист2!$A$6,0)","v":43172}]
[null,null,null,"5 корзин",null,null,null,45570,{"$f":"ROUND(H26*(1-$C$3)/Лист2!$A$6,0)","v":45570}]
[null,null,"CF500F","без корзин","-18…-25",485,"1437х662х925",47517,{"$f":"ROUND(H27*(1-$C$3)/Лист2!$A$6,0)","v":47517}]
[null,null,null,"6 корзин",null,null,null,50394,{"$f":"ROUND(H28*(1-$C$3)/Лист2!$A$6,0)","v":50394}]
[null,null,"CF600F","без корзин","-18…-25",572,"1657х662х925",51169,{"$f":"ROUND(H29*(1-$C$3)/Лист2!$A$6,0)","v":51169}]
[null,null,null,"7 корзин",null,null,null,54526,{"$f":"ROUND(H30*(1-$C$3)/Лист2!$A$6,0)","v":54526}]
["К заказу доступны лари с прямой и гнутой составной короной "]
[3,"Морозильные лари с глухой крышкой"]
[null,null,"CF200S","без корзин","-18…-25",235,"808х743х904",35775,{"$f":"ROUND(H33*(1-$C$3)/Лист2!$A$6,0)","v":35775}]
[null,null,null,"1 корзина",null,null,null,36255,{"$f":"ROUND(H34*(1-$C$3)/Лист2!$A$6,0)","v":36255},null,"Сечение ларей с прямой стеклянной крышкой",null,null,null,null,null,null,null,null,null,null,"Сечение ларей с прямой стеклянной крышкой и товарным накопителем"]
[null,null,"CF300S","без корзин","-18…-25",319,"1018х743х904",39110,{"$f":"ROUND(H35*(1-$C$3)/Лист2!$A$6,0)","v":39110}]
[null,null,null,"1 корзина",null,null,null,39589,{"$f":"ROUND(H36*(1-$C$3)/Лист2!$A$6,0)","v":39589}]
[null,null,"CF400S","без корзин","-18…-25",398,"1218х743х904",46562,{"$f":"ROUND(H37*(1-$C$3)/Лист2!$A$6,0)","v":46562}]
[null,null,null,"1 корзина",null,null,null,47041,{"$f":"ROUND(H38*(1-$C$3)/Лист2!$A$6,0)","v":47041}]
[null,null,"CF500S","без корзин","-18…-25",485,"1438х743х904",47327,{"$f":"ROUND(H39*(1-$C$3)/Лист2!$A$6,0)","v":47327}]
[null,null,null,"1 корзина",null,null,null,47806,{"$f":"ROUND(H40*(1-$C$3)/Лист2!$A$6,0)","v":47806}]
[null,null,"CF600S","без корзин","-18…-25",572,"1658х743х904",51620,{"$f":"ROUND(H41*(1-$C$3)/Лист2!$A$6,0)","v":51620}]
[null,null,null,"1 корзина",null,null,null,52099,{"$f":"ROUND(H42*(1-$C$3)/Лист2!$A$6,0)","v":52099}]
[4,"Морозильные лари с глухой крышкой (крышка из нержавеющей стали)"]
[null,null,"CF200S нерж","без корзин","-18…-25",235,"808х743х904",40552,{"$f":"ROUND(H44*(1-$C$3)/Лист2!$A$6,0)","v":40552}]
[null,null,null,"1 корзина",null,null,null,41031,{"$f":"ROUND(H45*(1-$C$3)/Лист2!$A$6,0)","v":41031}]
[null,null,"CF300S нерж","без корзин","-18…-25",319,"1018х743х904",45026,{"$f":"ROUND(H46*(1-$C$3)/Лист2!$A$6,0)","v":45026}]
[null,null,null,"1 корзина",null,null,null,45506,{"$f":"ROUND(H47*(1-$C$3)/Лист2!$A$6,0)","v":45506}]
[null,null,"CF400S нерж","без корзин","-18…-25",398,"1218х743х904",53370,{"$f":"ROUND(H48*(1-$C$3)/Лист2!$A$6,0)","v":53370}]
[null,null,null,"1 корзина",null,null,null,53850,{"$f":"ROUND(H49*(1-$C$3)/Лист2!$A$6,0)","v":53850}]
[null,null,"CF500S нерж","без корзин","-18…-25",485,"1438х743х904",54332,{"$f":"ROUND(H50*(1-$C$3)/Лист2!$A$6,0)","v":54332}]
[null,null,null,"1 корзина",null,null,null,54811,{"$f":"ROUND(H51*(1-$C$3)/Лист2!$A$6,0)","v":54811}]
[null,null,"CF600S нерж","без корзин","-18…-25",572,"1658х743х904",58584,{"$f":"ROUND(H52*(1-$C$3)/Лист2!$A$6,0)","v":58584}]
[null,null,null,"1 корзина",null,null,null,59063,{"$f":"ROUND(H53*(1-$C$3)/Лист2!$A$6,0)","v":59063}]
[5,"Морозильные лари с гнутыми раздвижными стеклами (климатический класс 4+)"]
[null,null,"CFТ200C","без корзин","-18…-25",235,"807х662х925",41045,{"$f":"ROUND(H55*(1-$C$3)/Лист2!$A$6,0)","v":41045}]
[null,null,null,"3 корзины",null,null,null,43220,{"$f":"ROUND(H56*(1-$C$3)/Лист2!$A$6,0)","v":43220}]
[null,null,"CFТ300C","без корзин","-18…-25",319,"1017х662х925",43378,{"$f":"ROUND(H57*(1-$C$3)/Лист2!$A$6,0)","v":43378}]
[null,null,null,"4 корзины",null,null,null,46278,{"$f":"ROUND(H58*(1-$C$3)/Лист2!$A$6,0)","v":46278},null,"Сечение ларей с глухой крышкой ",null,null,null,null,null,null,null,null,null,null,"Внешний вид тыльной стороны ларя с запасником"]
[null,null,"CFT400C","без корзин","-18…-25",398,"1217х662х925",46595,{"$f":"ROUND(H59*(1-$C$3)/Лист2!$A$6,0)","v":46595}]
[null,null,null,"5 корзин",null,null,null,50220,{"$f":"ROUND(H60*(1-$C$3)/Лист2!$A$6,0)","v":50220}]
[null,null,"CFТ500C","без корзин","-18…-25",485,"1437х662х925",47993,{"$f":"ROUND(H61*(1-$C$3)/Лист2!$A$6,0)","v":47993}]
[null,null,null,"6 корзин",null,null,null,52343,{"$f":"ROUND(H62*(1-$C$3)/Лист2!$A$6,0)","v":52343}]
[null,null,"CFТ600C","без корзин","-18…-25",572,"1657х662х925",55757,{"$f":"ROUND(H63*(1-$C$3)/Лист2!$A$6,0)","v":55757}]
[null,null,null,"7 корзин",null,null,null,60832,{"$f":"ROUND(H64*(1-$C$3)/Лист2!$A$6,0)","v":60832}]
[6,"Морозильные лари с прямыми раздвижными стеклами (климатический класс 4+)"]
[null,null,"CFТ200F","без корзин","-18…-25",235,"807х662х925",39138,{"$f":"ROUND(H66*(1-$C$3)/Лист2!$A$6,0)","v":39138}]
[null,null,null,"3 корзины",null,null,null,41118,{"$f":"ROUND(H67*(1-$C$3)/Лист2!$A$6,0)","v":41118}]
[null,null,"CFТ300F","без корзин","-18…-25",319,"1017х662х925",43667,{"$f":"ROUND(H68*(1-$C$3)/Лист2!$A$6,0)","v":43667}]
[null,null,null,"4 корзины",null,null,null,46307,{"$f":"ROUND(H69*(1-$C$3)/Лист2!$A$6,0)","v":46307}]
[null,null,"CFT400F","без корзин","-18…-25",398,"1217х662х925",46586,{"$f":"ROUND(H70*(1-$C$3)/Лист2!$A$6,0)","v":46586}]
[null,null,null,"5 корзин",null,null,null,49886,{"$f":"ROUND(H71*(1-$C$3)/Лист2!$A$6,0)","v":49886}]
[null,null,"CFТ500F","без корзин","-18…-25",485,"1437х662х925",47542,{"$f":"ROUND(H72*(1-$C$3)/Лист2!$A$6,0)","v":47542}]
[null,null,null,"6 корзин",null,null,null,51502,{"$f":"ROUND(H73*(1-$C$3)/Лист2!$A$6,0)","v":51502}]
[null,null,"CFТ600F","без корзин","-18…-25",572,"1657х662х925",56225,{"$f":"ROUND(H74*(1-$C$3)/Лист2!$A$6,0)","v":56225}]
[null,null,null,"7 корзин",null,null,null,60845,{"$f":"ROUND(H75*(1-$C$3)/Лист2!$A$6,0)","v":60845}]
["К заказу доступны лари с прямой и гнутой составной короной "]
[7,"Морозильные лари для мягкого мороженного (комплектация -  товарный накопитель, электронный контроллер, полка навесная для установки гастроемкостей)"]
[null,null,"CF300CSZ","-","-18…-25",319,"1017х662х1310",53390,{"$f":"ROUND(H78*(1-$C$3)/Лист2!$A$6,0)","v":53390}]
[null,null,"CF400CSZ","-","-18…-25",398,"1217х662х1310",59807,{"$f":"ROUND(H79*(1-$C$3)/Лист2!$A$6,0)","v":59807}]
[null,null,"CF500CSZ","-","-18…-25",485,"1437х662х1310",61205,{"$f":"ROUND(H80*(1-$C$3)/Лист2!$A$6,0)","v":61205}]
[8,"Опции для ларей"]
[null,null,"Корзина для ларя с гнут. стек.","087.42.00.00","-","-","214х498х320"]
[null,null,"Корзина для ларя с прям. стек.","086.42.00.00","-","-","214х493х250"]
[null,null,"Корзина для ларя с глух. крыш.","086.42.00.00","-","-","214х493х250"]
[null,null,"Накопитель для ларя",null,"-","-","-"]
[null,null,"Надстройка стеклянная 1145.12.00.00-01 для ЛВН 300 Г",null,null,null,null,5650,{"$f":"ROUND(H86*(1-$C$3)/Лист2!$A$6,0)","v":5650}]
[null,null,"Надстройка стеклянная 1145.12.00.00-02 для ЛВН 400 Г",null,null,null,null,6150,{"$f":"ROUND(H87*(1-$C$3)/Лист2!$A$6,0)","v":6150}]
[null,null,"Надстройка стеклянная 1145.12.00.00-03 для ЛВН 500 Г",null,null,null,null,6880,{"$f":"ROUND(H88*(1-$C$3)/Лист2!$A$6,0)","v":6880}]
[null,null,"Комплект подсветки для ларя CF200C",null,"Спектр 4000К/6000К"]
[null,null,"Комплект подсветки для ларя CF300C"]
[null,null,"Комплект подсветки для ларя CF400C"]
[null,null,"Комплект подсветки для ларя CF500C"]
[null,null,"Комплект подсветки для ларя CF600C"]
[]
[null,"Стандартный цвет короны ларя  - Серый, Красный, Синий, Голубой, Зеленый (наличие  корон уточнять у менеджеров)"]
[null,"Опционально доступны иные цвета короны  - наличие уточнять у менеджеров, наценка +1,5% к цене ларя"]
[null,"Стандартный цвет корпуса - белый (ПлRAL9003). Наценка за нестандартный цвет корпуса +1,5% к цене ларя."]
[null,null,null,null,null,null,null,"НАВЕРХ"]

{"sheet":"Лари-бонеты Italfrost","index":7,"n_rows":119,"n_cols":11,"rows_kept":119,"cut":false,"hidden":false,"merged":[[117,0,117,8],[115,2,115,6],[114,2,114,6],[113,2,113,6],[112,2,112,6],[95,2,95,6],[108,2,108,6],[107,2,107,6],[106,2,106,6],[105,2,105,6],[104,2,104,6],[103,2,103,6],[102,2,102,6],[100,2,100,6],[99,2,99,6],[98,2,98,6],[97,2,97,6],[96,2,96,6],[110,0,116,1],[111,2,111,6],[110,2,110,6],[116,2,116,6],[101,0,101,8],[109,0,109,8],[68,2,68,6],[72,2,72,6],[71,2,71,6],[70,2,70,6],[79,2,79,6],[78,2,78,6],[77,2,77,6],[76,2,76,6],[75,2,75,6],[74,2,74,6],[94,0,94,8],[70,0,70,1],[71,0,72,1],[73,0,73,8],[74,0,76,1],[86,2,86,6],[85,2,85,6],[81,0,86,1],[88,0,93,1],[84,2,84,6],[83,2,83,6],[82,2,82,6],[81,2,81,6],[93,2,93,6],[92,2,92,6],[91,2,91,6],[90,2,90,6],[89,2,89,6],[88,2,88,6],[95,0,100,1],[102,0,104,1],[105,0,108,1],[52,6,53,6],[54,6,55,6],[56,6,57,6],[60,0,60,8],[69,0,69,8],[67,2,67,6],[66,2,66,6],[65,2,65,6],[64,2,64,6],[63,2,63,6],[62,2,62,6],[61,2,61,6],[58,0,59,0],[58,1,59,8],[55,3,55,4],[56,3,56,4],[57,3,57,4],[77,0,79,1],[61,0,68,1],[80,0,80,8],[87,0,87,8],[38,6,39,6],[40,6,41,6],[42,6,43,6],[44,6,45,6],[50,6,51,6],[38,2,39,2],[40,2,41,2],[42,2,43,2],[44,2,45,2],[50,2,51,2],[48,0,48,3],[48,4,48,8],[49,0,57,1],[49,2,49,8],[50,5,57,5],[52,2,53,2],[54,2,55,2],[56,2,57,2],[46,0,47,0],[46,1,47,8],[51,3,51,4],[52,3,52,4],[53,3,53,4],[54,3,54,4],[10,10,10,24],[0,6,4,8],[8,6,9,6],[8,7,9,7],[8,8,9,8],[10,0,11,0],[10,1,11,8],[11,10,11,24],[1,1,1,2],[2,1,2,2],[3,1,3,2],[5,0,7,8],[8,0,9,0],[8,1,9,1],[8,2,9,3],[8,4,9,4],[8,5,9,5],[34,0,35,0],[34,1,35,8],[36,0,36,3],[36,4,36,8],[37,2,37,8],[38,5,45,5],[14,2,15,2],[14,6,15,6],[16,6,17,6],[18,6,19,6],[20,6,21,6],[14,5,21,5],[22,0,23,0],[22,1,23,8],[25,2,25,8],[26,2,27,2],[26,5,33,5],[26,6,27,6],[28,2,29,2],[28,6,29,6],[30,2,31,2],[30,6,31,6],[32,2,33,2],[32,6,33,6],[118,6,119,6],[20,2,21,2],[18,2,19,2],[16,2,17,2],[13,2,13,8],[13,0,21,1],[12,0,12,3],[12,4,12,8],[24,0,24,3],[24,4,24,8],[25,0,33,1],[37,0,45,1],[31,3,31,4],[32,3,32,4],[33,3,33,4],[38,3,38,4],[39,3,39,4],[40,3,40,4],[41,3,41,4],[42,3,42,4],[43,3,43,4],[44,3,44,4],[45,3,45,4],[50,3,50,4],[12,10,30,24],[14,3,14,4],[15,3,15,4],[16,3,16,4],[17,3,17,4],[18,3,18,4],[19,3,19,4],[20,3,20,4],[21,3,21,4],[26,3,26,4],[27,3,27,4],[28,3,28,4],[29,3,29,4],[30,3,30,4]]}
[null,null,null,null,null,null,"ЗАВОД «ОПК»\nТел.: +7 (495) 987-4388\ne-mail: info@cryspi.ru\nсайт: cryspi.ru",null,null,"На главную"]
[]
[null,"Ваша скидка:",null,{"$f":"Содержание!D2","v":0}]
[null,"НДС:",null,{"$f":"IF(Лист2!A1=TRUE,\"С НДС\",\"БЕЗ НДС\")","v":"С НДС"}]
[]
["Двухрежимные ларь-бонеты ITALFROST"]
[]
[]
["№","Изображение","Наименование",null,"Колличество делителей/корзин","Температурный режим,°C","Габариты, \n(LxWxH) мм","Базовая \nцена, руб.\n(с НДС)",{"$f":"[5]Лист2!$A$5","v":"Ваша цена, руб."}]
[]
[1,"ЛВН двухрежимный  ITALFROST",null,null,null,null,null,null,null,null,"СЕЧЕНИЕ"]
[]
["- Стандартная комплектация ЛВН Italfrost:\n- Корпус внешний - оцинкованный металл (RAL 9003/7016/9016);\n- Охлаждаемый объем - цвет решеток/делителей RAL 9003;\n- Компрессор Embraco, хладагент R-290, оттайка горячим газом, система выпаривания конденсата;\n- Электронный контроллер CAREL;",null,null,null,"- Комплект верхнего бампера (для торцевого исполенние бампер с трех сторон);\n- Система решеток по периметру охлаждаемого объема (1 разделитель, устанавливаемый возле агрегатного отсека во всю высоту охл.объема);\n- Цвет пластиковых элеметов RAL 7035 (крышка, окантовка стекла, бампер, ручки);\n-Деревянная обрешетка;"]
[]
[null,null,"Ларь-витрина низкотемпературный ЛВН 1850 (ЛБТ2 М 1850)","С комплектом делителей (2 шт.)",null,"Возможен выбор температурного режима \n(НТ -18..-24  ̊С/ \nСТ -2..+6  ̊С)","1850х858х869",131535,{"$f":"ROUND(H15*(1-$D$3)/Лист2!$A$6,0)","v":131535}]
[null,null,null,"С комплектом корзинами (4 шт.)",null,null,null,135021,{"$f":"ROUND(H16*(1-$D$3)/Лист2!$A$6,0)","v":135021}]
[null,null,"Ларь-витрина низкотемпературный ЛВН 1850 (ЛБ2 М 1850)","С комплектом делителей (2 шт.)",null,null,"1850х858х869",125680,{"$f":"ROUND(H17*(1-$D$3)/Лист2!$A$6,0)","v":125680}]
[null,null,null,"С комплектом корзинами (4 шт.)",null,null,null,129166,{"$f":"ROUND(H18*(1-$D$3)/Лист2!$A$6,0)","v":129166}]
[null,null,"Ларь-витрина низкотемпературный ЛВН 2100 (ЛБ2 М 2100)","С комплектом делителей (3 шт.)",null,null,"2100х858х869",131803,{"$f":"ROUND(H19*(1-$D$3)/Лист2!$A$6,0)","v":131803}]
[null,null,null,"С комплектом корзинами (5 шт.)",null,null,null,135785,{"$f":"ROUND(H20*(1-$D$3)/Лист2!$A$6,0)","v":135785}]
[null,null,"Ларь-витрина низкотемпературный ЛВН 2500 (ЛБ2 М 2500)","С комплектом делителей (4 шт.)",null,null,"2500х858х869",136657,{"$f":"ROUND(H21*(1-$D$3)/Лист2!$A$6,0)","v":136657}]
[null,null,null,"С комплектом корзинами (6 шт.)",null,null,null,141135,{"$f":"ROUND(H22*(1-$D$3)/Лист2!$A$6,0)","v":141135}]
[2,"ЛВН двухрежимный  ITALFROST Push"]
[]
[" - Стандартная комплектация ЛВН Italfrost:\n- Корпус внешний - оцинкованный металл (RAL 9003/7016/9016);\n- Охлаждаемый объем - цвет решеток/делителей RAL 9003;\n- Компрессор Embraco, хладагент R-290, оттайка горячим газом, система выпаривания конденсата;\n- Электронный контроллер CAREL;",null,null,null,"- Комплект верхнего бампера (для торцевого исполенние бампер с трех сторон);\n- Система решеток по периметру охлаждаемого объема (1 разделитель, устанавливаемый возле агрегатного отсека во всю высоту охл.объема);\n- Цвет пластиковых элеметов RAL 7035 (крышка, окантовка стекла, бампер, ручки);\n- Деревянная обрешетка;"]
[]
[null,null,"Ларь-витрина низкотемпературный ЛВН 1850 (ЛБТ2 М 1850) PUSH","С комплектом делителей (2 шт.)",null,"Возможен выбор температурного режима \n(НТ -18..-24  ̊С/ \nСТ -2..+6  ̊С)","1850х858х869",131535,{"$f":"ROUND(H27*(1-$D$3)/Лист2!$A$6,0)","v":131535}]
[null,null,null,"С комплектом корзинами (4 шт.)",null,null,null,135021,{"$f":"ROUND(H28*(1-$D$3)/Лист2!$A$6,0)","v":135021}]
[null,null,"Ларь-витрина низкотемпературный ЛВН 1850 (ЛБ2 М 1850) PUSH","С комплектом делителей (2 шт.)",null,null,"1850х858х869",125680,{"$f":"ROUND(H29*(1-$D$3)/Лист2!$A$6,0)","v":125680}]
[null,null,null,"С комплектом корзинами (4 шт.)",null,null,null,129166,{"$f":"ROUND(H30*(1-$D$3)/Лист2!$A$6,0)","v":129166}]
[null,null,"Ларь-витрина низкотемпературный ЛВН 2100 (ЛБ2 М 2100) PUSH","С комплектом делителей (3 шт.)",null,null,"2100х858х869",131804,{"$f":"ROUND(H31*(1-$D$3)/Лист2!$A$6,0)","v":131804}]
[null,null,null,"С комплектом корзинами (5 шт.)",null,null,null,135786,{"$f":"ROUND(H32*(1-$D$3)/Лист2!$A$6,0)","v":135786}]
[null,null,"Ларь-витрина низкотемпературный ЛВН 2500 (ЛБ2 М 2500) PUSH","С комплектом делителей (4 шт.)",null,null,"2500х858х869",136657,{"$f":"ROUND(H33*(1-$D$3)/Лист2!$A$6,0)","v":136657}]
[null,null,null,"С комплектом корзинами (6 шт.)",null,null,null,141136,{"$f":"ROUND(H34*(1-$D$3)/Лист2!$A$6,0)","v":141136}]
[3,"ЛВН двухрежимный  RONDO с термостатом"]
[]
["- Стандартная комплектация ЛВН Italfrost:\n- Корпус внешний - оцинкованный металл (RAL 9003/7016/9016);\n- Охлаждаемый объем - цвет решеток/делителей RAL 9003;\n- Компрессор Embraco, хладагент R-290, \n- БЕЗ оттайки горячим газом, БЕЗ системы выпаривания конденсата, БЕЗ освещения;\n- Термостат (управление температурой в объеме);",null,null,null,"- БЕЗ верхнего бампера;\n- Система решеток по периметру охлаждаемого объема (1 разделитель, устанавливаемый возле агрегатного отсека во всю высоту охл.объема);\n- Возможен выбор температурного режима НТ/СТ (НТ -18..-24  ̊С/ СТ -2..+6  ̊С);\n- Цвет пластиковых элеметов RAL 7035 (крышка, окантовка стекла, бампер, ручки); \n- Деревянная обрешетка;"]
[]
[null,null,"Ларь-витрина низкотемпературный ЛВНР 1850 (ЛБТР М 1850)","С комплектом делителей (2 шт.)",null," -18..-24  ̊С","1850х858х869",93007,{"$f":"ROUND(H39*(1-$D$3)/Лист2!$A$6,0)","v":93007}]
[null,null,null,"С комплектом корзинами (4 шт.)",null,null,null,96492,{"$f":"ROUND(H40*(1-$D$3)/Лист2!$A$6,0)","v":96492}]
[null,null,"Ларь-витрина низкотемпературный ЛВНР 1850 (ЛБР М 1850)","С комплектом делителей (2 шт.)",null,null,"1850х858х869",90381,{"$f":"ROUND(H41*(1-$D$3)/Лист2!$A$6,0)","v":90381}]
[null,null,null,"С комплектом корзинами (4 шт.)",null,null,null,93866,{"$f":"ROUND(H42*(1-$D$3)/Лист2!$A$6,0)","v":93866}]
[null,null,"Ларь-витрина низкотемпературный ЛВНР 2100 (ЛБР М 2100)","С комплектом делителей (3 шт.)",null,null,"2100х858х869",93757,{"$f":"ROUND(H43*(1-$D$3)/Лист2!$A$6,0)","v":93757}]
[null,null,null,"С комплектом корзинами (5 шт.)",null,null,null,97739,{"$f":"ROUND(H44*(1-$D$3)/Лист2!$A$6,0)","v":97739}]
[null,null,"Ларь-витрина низкотемпературный ЛВНР 2500 (ЛБР М 2500)","С комплектом делителей (4 шт.)",null,null,"2500х858х869",108283,{"$f":"ROUND(H45*(1-$D$3)/Лист2!$A$6,0)","v":108283}]
[null,null,null,"С комплектом корзинами (6 шт.)",null,null,null,112762,{"$f":"ROUND(H46*(1-$D$3)/Лист2!$A$6,0)","v":112762}]
[4,"ЛВН двухрежимный  RONDO с контроллером"]
[]
["- Стандартная комплектация ЛВН Italfrost:\n- Корпус внешний - оцинкованный металл (RAL 9003/7016/9016);\n- Охлаждаемый объем - цвет решеток/делителей RAL 9003;\n- Компрессор Embraco, хладагент R-290, \n- БЕЗ оттайки горячим газом, БЕЗ системы выпаривания конденсата, БЕЗ освещения;\n- Электронный контроллер CAREL;",null,null,null,"- БЕЗ верхнего бампера;\n- Система решеток по периметру охлаждаемого объема (1 разделитель, устанавливаемый возле агрегатного отсека во всю высоту охл.объема);\n- Возможен выбор температурного режима НТ/СТ (НТ -18..-24  ̊С/ СТ -2..+6  ̊С);\n- Цвет пластиковых элеметов RAL 7035 (крышка, окантовка стекла, бампер, ручки); \n- Деревянная обрешетка;"]
[]
[null,null,"Ларь-витрина низкотемпературный ЛВНР 1850 (ЛБТР М 1850)","С комплектом делителей (2 шт.)",null," -18..-24  ̊С","1850х858х869",95135,{"$f":"ROUND(H51*(1-$D$3)/Лист2!$A$6,0)","v":95135}]
[null,null,null,"С комплектом корзинами (4 шт.)",null,null,null,98620,{"$f":"ROUND(H52*(1-$D$3)/Лист2!$A$6,0)","v":98620}]
[null,null,"Ларь-витрина низкотемпературный ЛВНР 1850 (ЛБР М 1850)","С комплектом делителей (2 шт.)",null,null,"1850х858х869",92524,{"$f":"ROUND(H53*(1-$D$3)/Лист2!$A$6,0)","v":92524}]
[null,null,null,"С комплектом корзинами (4 шт.)",null,null,null,96010,{"$f":"ROUND(H54*(1-$D$3)/Лист2!$A$6,0)","v":96010}]
[null,null,"Ларь-витрина низкотемпературный ЛВНР 2100 (ЛБР М 2100)","С комплектом делителей (3 шт.)",null,null,"2100х858х869",95884,{"$f":"ROUND(H55*(1-$D$3)/Лист2!$A$6,0)","v":95884}]
[null,null,null,"С комплектом корзинами (5 шт.)",null,null,null,99867,{"$f":"ROUND(H56*(1-$D$3)/Лист2!$A$6,0)","v":99867}]
[null,null,"Ларь-витрина низкотемпературный ЛВНР 2500 (ЛБР М 2500)","С комплектом делителей (4 шт.)",null,null,"2500х858х869",110424,{"$f":"ROUND(H57*(1-$D$3)/Лист2!$A$6,0)","v":110424}]
[null,null,null,"С комплектом корзинами (6 шт.)",null,null,null,114902,{"$f":"ROUND(H58*(1-$D$3)/Лист2!$A$6,0)","v":114902}]
[5,"КОМПЛЕКТУЮЩИЕ"]
[]
["Бампер (Определяется харакетристикой, либо для отдельного заказа)"]
[null,null,"Комплект трехстороннего нижнего бампера L=1850 для ЛВН ЛБТ"]
[null,null,"Комплект трехстороннего верхнего бампера L=1850 для ЛВН ЛБТ"]
[null,null,"Комплект нижнего бампера L=1850 для ЛВН ЛБ"]
[null,null,"Комплект верхнего бампера L=1850 для ЛВН ЛБ"]
[null,null,"Комплект нижнего бампера L=2100 для ЛВН ЛБ"]
[null,null,"Комплект верхнего бампера L=2100 для  ЛВН ЛБ"]
[null,null,"Комплект нижнего бампера L=2500 для ЛВН ЛБ"]
[null,null,"Комплект верхнего бампера L=2500 для ЛВН ЛБ "]
["Разделители и корзины (полимерное покрытие, цвет - RAL 9003)"]
[null,null,"Разделитель поперечный объема 1022.45.00.00 L=1850/2100/2500 для ЛБ М"]
[null,null,"Корзина увеличенная над агрегатным отсеком 1022.110.00.00-01 для ЛВН/ЛВС (ЛБ М) (Устанавливается над агрегатным отсеком, 1 шт. в ЛБ каждого типоразмера)"]
[null,null,"Корзина 1022.110.00.00 для ЛВН/ЛВС (ЛБ М) (в ЛБ длиной 2500 устанавливается 5 данных корзин, в 2100 - 4 корзины, в 1850 - 3 корзины)"]
["Суперструктуры и опции"]
[null,null,"Суперструктура пристенная 1022.61.00.00-02 для ЛВН/ЛВС (ЛБ М) 1850",null,null,null,null,22961,{"$f":"ROUND(H75*(1-$D$3)/Лист2!$A$6,0)","v":22961}]
[null,null,"Суперструктура пристенная 1022.61.00.00 для ЛВН/ЛВС (ЛБ М) 2100",null,null,null,null,24019,{"$f":"ROUND(H76*(1-$D$3)/Лист2!$A$6,0)","v":24019}]
[null,null,"Суперструктура пристенная 1022.61.00.00-01 для ЛВН/ЛВС (ЛБ М) 2500",null,null,null,null,25516,{"$f":"ROUND(H77*(1-$D$3)/Лист2!$A$6,0)","v":25516}]
[null,null,"Суперструктура островная 1022.60.00.00-02 для ЛВН/ЛВС (ЛБ М) 1850",null,null,null,null,30274,{"$f":"ROUND(H78*(1-$D$3)/Лист2!$A$6,0)","v":30274}]
[null,null,"Суперструктура островная 1022.60.00.00 для ЛВН/ЛВС (ЛБ М) 2100",null,null,null,null,32302,{"$f":"ROUND(H79*(1-$D$3)/Лист2!$A$6,0)","v":32302}]
[null,null,"Суперструктура островная 1022.60.00.00-01 для ЛВН/ЛВС (ЛБ М) 2500",null,null,null,null,34893,{"$f":"ROUND(H80*(1-$D$3)/Лист2!$A$6,0)","v":34893}]
[]
[null,null,"Комплект подсветки прист 429.80.00.00-02 L=1850 для ЛБ М (LED, лампа Т5)"]
[null,null,"Комплект подсветки прист 429.80.00.00 L=2100 для ЛБ М (LED, лампа Т5)"]
[null,null,"Комплект подсветки прист 429.80.00.00-01 L=2500 для ЛБ М (LED, лампа Т5)"]
[null,null,"Комплект подсветки остр суперстр 429.64.00.00-02 L=1850 для ЛБ М (LED, лампа Т5)"]
[null,null,"Комплект подсветки остр суперстр 429.64.00.00 L=2100 для ЛБ М (LED, лампа Т5)"]
[null,null,"Комплект подсветки остр суперстр 429.64.00.00-01 L=2500 для ЛБ М (LED, лампа Т5)"]
[]
[null,null,"Комплект ценникодержателей прист 429.70.00.00-02 L=1850 для ЛБ М"]
[null,null,"Комплект ценникодержателей прист 429.70.00.00 L=2100 для ЛБ М"]
[null,null,"Комплект ценникодержателей прист 429.70.00.00-01 L=2500 для ЛБ М"]
[null,null,"Комплект ценникодержателей остр 429.66.00.00-02 L=1850 для ЛБ М"]
[null,null,"Комплект ценникодержателей остр 429.66.00.00 L=2100 для ЛБ М"]
[null,null,"Комплект ценникодержателей остр 429.66.00.00-01 L=2500 для ЛБ М"]
[]
[null,null,"Комплект ограничителей прист 429.71.00.00-02 L=1850 для ЛБ М"]
[null,null,"Комплект ограничителей прист 429.71.00.00 L=2100 для ЛБ М"]
[null,null,"Комплект ограничителей прист 429.71.00.00-01 L=2500 для ЛБ М"]
[null,null,"Комплект ограничителей остр 429.68.00.00-02 L=1850 для ЛБ М"]
[null,null,"Комплект ограничителей остр 429.68.00.00 L=2100 для ЛБ М"]
[null,null,"Комплект ограничителей остр 429.68.00.00-01 L=2500 для ЛБ М"]
[]
[null,null,"Соединительный комплект спина к спине остр 1022.62.00.00-02 L=1850 для ЛБ М"]
[null,null,"Соединительный комплект спина к спине остр 1022.62.00.00 L=2100 для ЛБ М"]
[null,null,"Соединительный комплект спина к спине остр 1022.62.00.00-01 L=2500 для ЛБ М"]
[null,null,"Воздуховод с площадкой под ценникодержатели низкий 1022.89.00.00-02 для ЛВН/ЛВС  (ЛБ М) 1850"]
[null,null,"Воздуховод с площадкой под ценникодержатели низкий 1022.89.00.00 для ЛВН/ЛВС  (ЛБ М) 2100"]
[null,null,"Воздуховод с площадкой под ценникодержатели низкий 1022.89.00.00-01 для ЛВН/ЛВС (ЛБ М) 2500"]
[null,null,"Боковая заглушка к соед. комплекту «спина к спине» остр. 1022.111.00.00 для ЛВН/ЛВС (ЛБ М)"]
[]
[null,null,"Компл 3-его уровн полок прист суперстр 404.99.00.00 L=1850 для ЛБТМ (G=370 мм)"]
[null,null,"Компл 3-его уровн полок прист суперстр 429.99.00.00 L=2100 для ЛБМ (G=370 мм)"]
[null,null,"Компл 3-его уровн полок прист суперстр 429.100.00.00 L=2500 для ЛБМ  (G=370 мм)"]
[null,null,"Компл 3-его уровн полок остр суперстр 429.96.00.00 L=2100 для ЛБМ (G=370 мм)"]
[null,null,"Компл 3-его уровн полок остр суперстр 429.97.00.00 L=2500 для ЛБМ (G=370 мм)"]
[null,null,"Компл торц полок остр суперстр 429.102.00.00 L=2100/2500 для ЛБТМ"]
[null,null,"Компл торц полукр полок остр суперстр 429.101.00.00 L=2100/2500 для ЛБТМ"]
[]
[null,null,null,null,null,null,"НАВЕРХ"]

{"sheet":"Витрины Cryspi БА","index":8,"n_rows":69,"n_cols":9,"rows_kept":69,"cut":false,"hidden":false,"merged":[[41,6,41,7],[42,0,73,0],[42,1,66,1],[38,1,38,2],[39,1,40,1],[41,1,41,4],[62,2,62,7],[57,2,57,7],[52,2,52,7],[47,2,47,7],[42,2,42,7],[34,2,34,7],[30,2,30,7],[26,2,26,7],[9,6,9,7],[25,6,25,7],[25,1,25,2],[26,1,37,1],[22,2,22,7],[10,0,24,1],[18,2,18,7],[14,2,14,7],[10,2,10,7],[9,1,9,2],[2,1,2,2],[3,1,3,2],[7,0,8,0],[7,1,8,1],[7,2,8,2],[6,1,6,7],[7,4,8,4],[7,5,8,5],[7,7,8,7],[7,3,8,3]]}
[null,null,null,null,null,null,null,null,"На главную"]
[]
[null,"Ваша скидка:",null,{"$f":"Содержание!D2","v":0}]
[null,"НДС:",null,{"$f":"IF(Лист2!A1=TRUE,\"С НДС\",\"БЕЗ НДС\")","v":"С НДС"}]
[]
[]
[null,"Витрины Cryspi без агрегата"]
["№",null,"Наименование","Температурный режим, C°","Площадь экспозиции, кв.м.","Габариты без боковин, мм (L/W/H)","Базовая \nцена, руб.\n(с НДС)",{"$f":"[6]Лист2!$A$5","v":"Ваша цена, руб."}]
[]
[1,"Витрины серии GAMMA-2, глубина выкладки 760 мм ",null,null,null,null,"Опции Gamma-2"]
[null,null,"Среднетемпературные витрины (без боковых панелей и боковых стекол)"]
[null,null,"Gamma-2 1200 БА ББ","0…+7",0.85,"1118х1093х1300",62205,{"$f":"ROUND(G12*(1-$D$3)/Лист2!$A$6,0)","v":62205}]
[null,null,"Gamma-2 1500 БА ББ","0…+7",1.1000000000000001,"1418х1093х1300",69837,{"$f":"ROUND(G13*(1-$D$3)/Лист2!$A$6,0)","v":69837}]
[null,null,"Gamma-2 1800 БА ББ","0…+7",1.3,"1718х1093х1300",81568,{"$f":"ROUND(G14*(1-$D$3)/Лист2!$A$6,0)","v":81568}]
[null,null,"Средне-низкотемпературные витрины (без боковых панелей и боковых стекол)"]
[null,null,"Gamma-2 SN 1200 БА ББ","-6…+6",0.85,"1118х1093х1300",71763,{"$f":"ROUND(G16*(1-$D$3)/Лист2!$A$6,0)","v":71763}]
[null,null,"Gamma-2 SN 1500 БА ББ","-6…+6",1.1000000000000001,"1418х1093х1300",78951,{"$f":"ROUND(G17*(1-$D$3)/Лист2!$A$6,0)","v":78951}]
[null,null,"Gamma-2 SN 1800 БА ББ","-6…+6",1.3,"1718х1093х1300",96572,{"$f":"ROUND(G18*(1-$D$3)/Лист2!$A$6,0)","v":96572}]
[null,null,"Низкотемпературные витрины (без боковых панелей и боковых стекол)"]
[null,null,"Gamma-2 М 1200 БА ББ","от -18",0.85,"1118х1093х1300",79144,{"$f":"ROUND(G20*(1-$D$3)/Лист2!$A$6,0)","v":79144}]
[null,null,"Gamma-2 М 1500 БА ББ","от -18",1.1000000000000001,"1418х1093х1300",90619,{"$f":"ROUND(G21*(1-$D$3)/Лист2!$A$6,0)","v":90619}]
[null,null,"Gamma-2 М 1800 БА ББ","от -18",1.3,"1718х1093х1300",101953,{"$f":"ROUND(G22*(1-$D$3)/Лист2!$A$6,0)","v":101953}]
[null,null,"Угловые среднетемпературные и нейтральные витрины, кассовые прилавки"]
[null,null,"Gamma-2 OC 90 (угол внеш.) БА ББ","0…+7",0.92,"1130х1130х1300",100060,{"$f":"ROUND(G24*(1-$D$3)/Лист2!$A$6,0)","v":100060}]
[null,null,"Gamma-2 IC (угол внутр.) БА ББ","0…+7",0.74,"1295х1295х1300",107773,{"$f":"ROUND(G25*(1-$D$3)/Лист2!$A$6,0)","v":107773}]
[2,"Витрины серии GAMMA Quadro LED, глубина выкладки 760 мм ",null,null,null,null,"Опции Gamma Quadro"]
[null,null,"Среднетемпературные витрины (без боковых панелей и боковых стекол)"]
[null,null,"Gamma Quadro 1200 LED БА ББ","0…+7",0.85,"1118х1093х1300",79164,{"$f":"ROUND(G28*(1-$D$3)/Лист2!$A$6,0)","v":79164}]
[null,null,"Gamma Quadro 1500 LED БА ББ","0…+7",1.1000000000000001,"1418х1093х1300",85351,{"$f":"ROUND(G29*(1-$D$3)/Лист2!$A$6,0)","v":85351}]
[null,null,"Gamma Quadro 1800 LED БА ББ","0…+7",1.3,"1718х1093х1300",99586,{"$f":"ROUND(G30*(1-$D$3)/Лист2!$A$6,0)","v":99586}]
[null,null,"Средне-низкотемпературные витрины (без боковых панелей и боковых стекол)"]
[null,null,"Gamma Quadro SN 1200 LED БА ББ","-6…+6",0.85,"1118х1093х1300",82407,{"$f":"ROUND(G32*(1-$D$3)/Лист2!$A$6,0)","v":82407}]
[null,null,"Gamma Quadro SN 1500 LED БА ББ","-6…+6",1.1000000000000001,"1418х1093х1300",96557,{"$f":"ROUND(G33*(1-$D$3)/Лист2!$A$6,0)","v":96557}]
[null,null,"Gamma Quadro SN 1800 LED БА ББ","-6…+6",1.3,"1718х1093х1300",111068,{"$f":"ROUND(G34*(1-$D$3)/Лист2!$A$6,0)","v":111068}]
[null,null,"Низкотемпературные витрины (без боковых панелей и боковых стекол)"]
[null,null,"Gamma Quadro M 1200 LED БА ББ","от -18",0.85,"1118х1093х1300",95541,{"$f":"ROUND(G36*(1-$D$3)/Лист2!$A$6,0)","v":95541}]
[null,null,"Gamma Quadro M 1500 LED БА ББ","от -18",1.1000000000000001,"1418х1093х1300",110554,{"$f":"ROUND(G37*(1-$D$3)/Лист2!$A$6,0)","v":110554}]
[null,null,"Gamma Quadro M 1800 LED БА ББ","от -18",1.3,"1718х1093х1300",130667,{"$f":"ROUND(G38*(1-$D$3)/Лист2!$A$6,0)","v":130667}]
[3,"Кондитерские витрины Elegia premium"]
[null,null,"Elegia Premium К 1240 БА","+1…+10",1.63,"1240х928х1400",133172,{"$f":"ROUND(G40*(1-$D$3)/Лист2!$A$6,0)","v":133172}]
[null,null,"Elegia Premium К 940 БА","+1…+10",1.2,"940х928х1400",116058,{"$f":"ROUND(G41*(1-$D$3)/Лист2!$A$6,0)","v":116058}]
[4,"Витрины серии MAGNUM, глубина выкладки 860 мм",null,null,null,null,"Опции Magnum"]
[null,null,"Среднетемпературные"]
[null,null,"Magnum 1250 Д БА ББ","0…+7",1.075,"1250х1100х1225",100098,{"$f":"ROUND(G44*(1-$D$3)/Лист2!$A$6,0)","v":100098}]
[null,null,"Magnum 1880 Д БА ББ","0…+7",1.62,"1880х1100х1225",138524,{"$f":"ROUND(G45*(1-$D$3)/Лист2!$A$6,0)","v":138524}]
[null,null,"Magnum 2500 Д БА ББ","0…+7",2.15,"2500х1100х1225",163042,{"$f":"ROUND(G46*(1-$D$3)/Лист2!$A$6,0)","v":163042}]
[null,null,"Magnum 3750 Д БА ББ","0…+7",3.22,"3750х1100х1225",208979,{"$f":"ROUND(G47*(1-$D$3)/Лист2!$A$6,0)","v":208979}]
[null,null,"Средне-низкотемпературные"]
[null,null,"Magnum SN 1250 Д БА ББ","-6…+6",1.075,"1250х1100х1225",109071,{"$f":"ROUND(G49*(1-$D$3)/Лист2!$A$6,0)","v":109071}]
[null,null,"Magnum SN 1880 Д БА ББ","-6…+6",1.62,"1880х1100х1225",147015,{"$f":"ROUND(G50*(1-$D$3)/Лист2!$A$6,0)","v":147015}]
[null,null,"Magnum SN 2500 Д БА ББ","-6…+6",2.15,"2500х1100х1225",180504,{"$f":"ROUND(G51*(1-$D$3)/Лист2!$A$6,0)","v":180504}]
[null,null,"Magnum SN 3750 Д БА ББ","-6…+6",3.22,"3750х1100х1225",237610,{"$f":"ROUND(G52*(1-$D$3)/Лист2!$A$6,0)","v":237610}]
[null,null,"Низкотемпературные"]
[null,null,"Magnum F 1250 Д БА ББ","-18...-15",1.075,"1250х1100х1225",121438,{"$f":"ROUND(G54*(1-$D$3)/Лист2!$A$6,0)","v":121438}]
[null,null,"Magnum F 1880 Д БА ББ","-18...-15",1.62,"1880х1100х1225",171642,{"$f":"ROUND(G55*(1-$D$3)/Лист2!$A$6,0)","v":171642}]
[null,null,"Magnum F 2500 Д БА ББ","-18...-15",2.15,"2500х1100х1225",197823,{"$f":"ROUND(G56*(1-$D$3)/Лист2!$A$6,0)","v":197823}]
[null,null,"Magnum F 3750 Д БА ББ","-18...-15",3.22,"3750х1100х1225",312364,{"$f":"ROUND(G57*(1-$D$3)/Лист2!$A$6,0)","v":312364}]
[null,null,"Среднетемпературные с низким стеклом"]
[null,null,"Magnum SG 1250 Д БА ББ","0…+7",1.075,"1250х1100х895",85821,{"$f":"ROUND(G59*(1-$D$3)/Лист2!$A$6,0)","v":85821}]
[null,null,"Magnum SG 1880 Д БА ББ","0…+7",1.62,"1880х1100х895",115751,{"$f":"ROUND(G60*(1-$D$3)/Лист2!$A$6,0)","v":115751}]
[null,null,"Magnum SG 2500 Д БА ББ","0…+7",2.15,"2500х1100х895",140025,{"$f":"ROUND(G61*(1-$D$3)/Лист2!$A$6,0)","v":140025}]
[null,null,"Magnum SG 3750 Д БА ББ","0…+7",3.22,"3750х1100х895",177963,{"$f":"ROUND(G62*(1-$D$3)/Лист2!$A$6,0)","v":177963}]
[null,null,"Угловые витрины"]
[null,null,"Magnum OC 90 Д БА ББ","0…+7",1.1919999999999999,"1360х1360х1225",181920,{"$f":"ROUND(G64*(1-$D$3)/Лист2!$A$6,0)","v":181920}]
[null,null,"Magnum ОC SG 90 Д БА ББ","0…+7",1.1919999999999999,"1360х1360х897",141064,{"$f":"ROUND(G65*(1-$D$3)/Лист2!$A$6,0)","v":141064}]
[null,null,"Magnum IC 90 Д БА ББ","0…+7",1.08,"1313х1313х1225",176639,{"$f":"ROUND(G66*(1-$D$3)/Лист2!$A$6,0)","v":176639}]
[null,null,"Magnum IC SG 90 Д БА ББ","0…+7",1.08,"1313х1313х897",166389,{"$f":"ROUND(G67*(1-$D$3)/Лист2!$A$6,0)","v":166389}]
[]
[null,null,null,null,null,"наверх"]

{"sheet":"Расчет нестанд.RAL","index":9,"n_rows":63,"n_cols":13,"rows_kept":63,"cut":false,"hidden":false,"merged":[[53,2,53,8],[47,2,47,8],[48,2,48,8],[45,1,48,1],[45,2,46,8],[52,2,52,8],[3,1,6,1],[3,2,4,8],[5,2,5,8],[6,2,6,8],[8,1,11,1],[8,2,9,8],[10,2,10,8],[11,2,11,8],[13,10,13,11],[62,6,63,6],[35,1,38,1],[35,2,36,8],[37,2,37,8],[38,2,38,8],[56,1,60,1],[56,2,57,8],[58,2,59,8],[60,2,60,8],[50,1,54,1],[50,2,51,8],[54,2,54,8],[41,1,43,1],[41,2,41,8],[42,2,42,8],[43,2,43,8],[24,1,28,1],[24,2,26,8],[27,2,27,8],[28,2,28,8],[30,1,33,1],[30,2,31,8],[32,2,32,8],[33,2,33,8],[13,1,16,1],[13,2,14,8],[15,2,15,8],[16,2,16,8],[18,1,22,1],[18,2,19,8],[21,2,21,8],[22,2,22,8]]}
[null,null,null,null,null,null,null,null,null,null,null,null,"В содержание"]
[null,null,"Таблица расчета нестандартных RAL."]
[]
[null,"Лари Itlafrost","1. Стандартный цвет корпуса - RAL9003; Корона - серая; Внутреннний объем - буклированный алюминий;"]
[]
[null,null,"2. На заказ - краска нестандартного RAL с повышающим коэффициентом +1,5% к цене (см.список нестандартных RAL)."]
[null,null,"3. RAL, не вошедшие в список, являются заказными. Цена по запросу."]
[]
[null,"Ларь-бонеты и суперструктуры","1. Стандартный цвет корпуса - RAL9003; Делители/корзины/решетки - RAL9003; Внутренний объем - буклированный алюминий."]
[]
[null,null,"2. На заказ - краска нестандартного RAL с повышающим коэффициентом +1,5% к цене (см.список нестандартных RAL). Покраска в нестандартный цвет суперструктуры - наценка на глянцевую краску +3%, на матовую и структурную краску +8%;"]
[null,null,"3. RAL, не вошедшие в список, являются заказными. Цена по запросу."]
[]
[null,"Octava","1. Стандартная цветовая гамма (без изменения цены): пунцовый красный (RAL3002), синий (RAL5005), светло-зеленый (RAL 6018), желтый (RAL 1021), серый антрацит (RAL 7016). ",null,null,null,null,null,null,null,"Нестандартные цвета RAL"]
[null,null,null,null,null,null,null,null,null,null,"RAL","Вид поверхности"]
[null,null,"2. На заказ - краска нестандартного RAL с повышающим коэффициентом +3% к цене (см.список нестандартных RAL).",null,null,null,null,null,null,null,1001,"гладкая глянцевая "]
[null,null,"3. RAL, не вошедшие в список, являются заказными. Цена по запросу.",null,null,null,null,null,null,null,1013,"гладкая глянцевая"]
[null,null,null,null,null,null,null,null,null,null,1015,"гладкая глянцевая "]
[null,"Gamma","1. Стандартная цветовая гамма (без изменения цены): темно-вишневый(RAL 3004), пунцовый красный (RAL3002), синий (RAL5005), светло зеленый (RAL 6018), желтый (RAL 1021), серый антрацит (RAL 7016). ",null,null,null,null,null,null,null,1018,"гладкая глянцевая "]
[null,null,null,null,null,null,null,null,null,null,1021,"гладкая глянцевая "]
[null,null,"2. Специальное исполнение под увеличенную загрузку витрины для мясных комбинатов +7% к цене.",null,null,null,null,null,null,null,3000,"гладкая глянцевая "]
[null,null,"3. На заказ - краска нестандартного RAL с повышающим коэффициентом +3% к цене (см.список нестандартных RAL).",null,null,null,null,null,null,null,3002,"гладкая глянцевая "]
[null,null,"4. RAL, не вошедшие в список, являются заказными. Цена по запросу.",null,null,null,null,null,null,null,3004,"гладкая глянцевая "]
[null,null,null,null,null,null,null,null,null,null,5002,"гладкая глянцевая "]
[null,"Gamma Quadro","1. Стандартная цветовая гамма (без изменения цены): белый/серый антрацит (RAL 9016/7016), темно-вишневый(RAL 3004), пунцовый красный (RAL3002), синий (RAL5005), светло зеленый (RAL 6018), желтый (RAL 1021), серый антрацит (RAL 7016). Поставляется с маркировкой LX (исполнение люкс).",null,null,null,null,null,null,null,5005,"гладкая глянцевая "]
[null,null,null,null,null,null,null,null,null,null,5010,"гладкая глянцевая "]
[null,null,null,null,null,null,null,null,null,null,6018,"гладкая глянцевая "]
[null,null,"2. На заказ - краска нестандартного RAL с повышающим коэффициентом +3% к цене (см.список нестандартных RAL).",null,null,null,null,null,null,null,7021,"гладкая глянцевая "]
[null,null,"3. RAL, не вошедшие в список, являются заказными. Цена по запросу.",null,null,null,null,null,null,null,7035,"гладкая глянцевая "]
[null,null,null,null,null,null,null,null,null,null,7042,"гладкая глянцевая "]
[null,"Magnum","1. Стандартная цветовая гамма (без изменения цены): серый антрацит (RAL 7016), темно-вишневый(RAL 3004), пунцовый красный (RAL3002), синий (RAL5005), светло зеленый (RAL 6018), желтый (RAL 1021). ",null,null,null,null,null,null,null,8011,"гладкая глянцевая "]
[null,null,null,null,null,null,null,null,null,null,8016,"гладкая глянцевая "]
[null,null,"2. На заказ - краска нестандартного RAL с повышающим коэффициентом +3% к цене (см.список нестандартных RAL).",null,null,null,null,null,null,null,9001,"гладкая глянцевая "]
[null,null,"3. RAL, не вошедшие в список, являются заказными. Цена по запросу.",null,null,null,null,null,null,null,9003,"гладкая глянцевая "]
[null,null,null,null,null,null,null,null,null,null,9005,"гладкая глянцевая "]
[null,"Magnum Quadro","1. Покраска в нестандартный цвет наружных панелей; Замена нерж.метал на крашен.оцинк. металл во внутреннем объеме - наценка к стоимости витрины 3 %.",null,null,null,null,null,null,null,9006,"гладкая глянцевая "]
[null,null,null,null,null,null,null,null,null,null,9016,"гладкая глянцевая "]
[null,null,"2. Срок производства витрины при покраске в нестандартный цвет может увеличится. На 7 дней и более."]
[null,null,"Список стандартных цветов"]
[]
[]
[null,"Elegia Quadro","1. Стандартная цветовая гамма: молочно-белый/черный (RAL 9010/9005)."]
[null,null,"2. На заказ - краска нестандартного RAL без дополнительной наценки (см.список нестандартных RAL)."]
[null,null,"3. RAL, не вошедшие в список, являются заказными. Цена по запросу."]
[]
[null,"Adagio ","Покраска в нестандартный цвет наружных панелей; Покраска в нестандартный цвет внутреннего объема - наценка к стоимости витрины 3 %. Замена оцинкованного металла во внутреннем объеме на нержавеющий (базовая полка, стойки, кронштейны) - наценка к стоимости витрины 5%;"]
[]
[null,null,"2. Срок производства витрины при покраске в нестандартный цвет может увеличится. На 7 дней и более."]
[null,null,"Список стандартных цветов"]
[]
[null,"SOLO","1. Стандартная цветовая гамма (без изменения цены): белый/серый антрацит (RAL 9016/7016), темно-вишневый(RAL 3004), пунцовый красный (RAL3002), синий (RAL5005), светло зеленый (RAL 6018), светло-серый (RAL7035); черный (RAL9005)"]
[]
[null,null,"2. На заказ - стеллаж нестандартного RAL  +2% к цене."]
[null,null,"3. RAL, не вошедшие в список, являются заказными. Цена по запросу."]
[null,null,"Список стандартных цветов"]
[]
[null,"UNIT","1. Стандартная цветовая гамма (без изменения цены): белый/серый антрацит (RAL 9016/7016), темно-вишневый(RAL 3004), пунцовый красный (RAL3002), синий (RAL5005), светло зеленый (RAL 6018), светло-серый (RAL7035); черный (RAL9005). "]
[]
[null,null,"2. На заказ - стеллаж нестандартного RAL  +2% к цене."]
[]
[null,null,"3. RAL, не вошедшие в список, являются заказными. Цена по запросу."]
[]
[null,null,null,null,null,null,"НАВЕРХ"]

{"sheet":"Цвет стандарт","index":10,"n_rows":65,"n_cols":13,"rows_kept":65,"cut":false,"hidden":false,"merged":[[62,1,64,1],[62,3,62,5],[63,3,63,5],[64,3,64,5],[65,1,65,5],[55,3,55,5],[27,1,32,2],[0,2,1,10],[56,1,58,1],[56,3,56,5],[57,3,57,5],[58,3,58,5],[19,1,24,2],[19,4,24,5],[2,12,2,20],[3,1,8,2],[3,4,8,5],[11,1,16,2],[59,1,61,1],[59,3,59,5],[60,3,60,5],[61,3,61,5],[27,4,32,5],[35,1,39,2],[11,4,15,5],[51,1,51,5],[52,3,52,5],[53,1,55,1],[53,3,53,5],[54,3,54,5]]}
["             ",null," Стандартные цвета для Magnum Quadro, Solo (L7, L9, Light, SML), Unit, Adagio;"]
[null,null,null,null,null,null,null,null,null,null,null,null,"В содержание"]
[null,"RAL 7016",null,null,"RAL 9016"]
[]
[]
[]
[]
[]
[]
[]
[null,"RAL 7035",null,null,"RAL 8007"]
[]
[]
[]
[]
[]
[]
[]
[null,"RAL 5005",null,null,"RAL 6018"]
[]
[]
[]
[]
[]
[]
[]
[null,"RAL 3004",null,null,"RAL 9005 "]
[]
[]
[]
[]
[]
[]
[]
[null,"RAL 3002",null,null,"RAL 5018 (Действительно только для Magnum Quadro)"]
[]
[]
[]
[]
[]
[]
[null,"Производитель порошковых красок \"AkzoNobel\""]
[]
[null,"Структура красок: глянец"]
[null,"За дополнительную плату могут быть "]
[null,"другие цвета красок, краски с другой структурой (матовая)."]
[null,"В структуры шагрень и муар производитель не красит оборудование в виду их"]
[null,"непрактичности (сложно с покрытия без специальных средств удалять загрязнения)."]
[]
[]
[]
[null,"Расшифровка характеристик ЛДСП",null,null,null,null,null,"Гикори коричневый, Н3732",null,null,"Дуб Сонома"]
[null,"Тип фронталальной панели","Символ","Расшифровка"]
[null,"Фронтальная панель широкая, ЛДСП","Е","Гикори коричневый, Н3732"]
[null,null,"F","Дуб Уайт-Ривер, серо-коричневый Н1313"]
[null,null,"G ","Дуб Сонома"]
[null,"Фронтальная панель узкая, ЛДСП","H","Гикори коричневый, Н3732"]
[null,null,"K","Дуб Уайт-Ривер, серо-коричневый Н1313",null,null,null,"Дуб Уайт-Ривер, серо-коричневый Н1313"]
[null,null,"L","Дуб Сонома"]
[null,"Фронтальная панель широкая, ЛДСП с отбойником","M","Гикори коричневый, Н3732"]
[null,null,"N","Дуб Уайт-Ривер, серо-коричневый Н1313"]
[null,null,"Q","Дуб Сонома"]
[null,"Фронтальная панель узкая, ЛДСП с отбойником","R","Гикори коричневый, Н3732"]
[null,null,"S","Дуб Уайт-Ривер, серо-коричневый Н1313"]
[null,null,"U","Дуб Сонома"]

{"sheet":"Брендирование","index":11,"n_rows":48,"n_cols":11,"rows_kept":48,"cut":false,"hidden":false,"merged":[[39,2,41,2],[39,4,41,4],[39,5,41,5],[39,6,41,6],[47,0,47,1],[47,2,47,8],[42,1,42,8],[43,0,44,1],[43,2,44,2],[43,4,44,4],[43,5,44,5],[43,6,44,6],[33,2,35,2],[33,4,35,4],[33,5,35,5],[33,6,35,6],[36,2,38,2],[36,4,38,4],[36,5,38,5],[36,6,38,6],[20,5,22,5],[20,6,22,6],[27,0,41,1],[27,2,29,2],[27,4,29,4],[27,5,29,5],[27,6,29,6],[23,2,25,2],[23,4,25,4],[23,5,25,5],[23,6,25,6],[26,1,26,8],[30,2,32,2],[30,4,32,4],[30,5,32,5],[30,6,32,6],[10,1,10,8],[11,0,25,1],[11,2,13,2],[11,4,13,4],[11,5,13,5],[11,6,13,6],[14,2,16,2],[14,4,16,4],[14,5,16,5],[14,6,16,6],[17,2,19,2],[17,4,19,4],[17,5,19,5],[17,6,19,6],[20,2,22,2],[20,4,22,4],[8,9,9,13],[5,0,5,8],[6,6,6,7],[8,0,9,0],[8,1,9,1],[8,2,9,3],[8,4,8,6],[8,7,9,7],[8,8,9,8]]}
[]
[null,null,null,null,null,null,null,null,null,null,"В содержание"]
[]
[]
[]
["ПРАЙС-ЛИСТ. ДОПЛАТА ЗА БРЕНДИРОВАНИЕ ЛАРЕЙ ITALFROST"]
[null,null,null,null,null,null,"НДС:",null,{"$f":"IF([2]Лист2!A1=TRUE,\"С НДС\",\"БЕЗ НДС\")","v":"С НДС"}]
[null,"2021-11-21",null,null,null,null,null,"Размер вашей скидки",{"$f":"Содержание!D2","v":0}]
["№","Изображение","Оклейка",null,"Размеры стикера, мм",null,null,{"$f":"CONCATENATE([2]ВАЛЮТЫ!B11,\" С НДС\")","v":"Базовая цена, руб. С НДС"},{"$f":"[2]Лист2!A5","v":"Ваша цена, руб."},"Назад на страницу ларей"]
[null,null,null,null,"Фронт","Боковины","Спина"]
[1,"Морозильные лари с гнутыми раздвижными стеклами"]
[null,null,"CF(T)200C","1 сторона","840х710","640х800","840х800",1004.91606072,{"$f":"ROUND(H12*(1-I8)/Лист2!$A$6,0)","v":1005}]
[null,null,null,"3 стороны",null,null,null,2234.2550630399996,{"$f":"ROUND(H13*(1-I8)/Лист2!$A$6,0)","v":2234}]
[null,null,null,"4 стороны",null,null,null,3321.459535680001,{"$f":"ROUND(H14*(1-I8)/Лист2!$A$6,0)","v":3321}]
[null,null,"CF(T)300C","1 сторона","1040х710","640х800","1040х800",1169.4928845600004,{"$f":"ROUND(H15*(1-I8)/Лист2!$A$6,0)","v":1169}]
[null,null,null,"3 стороны",null,null,null,2406.3126516000002,{"$f":"ROUND(H16*(1-I8)/Лист2!$A$6,0)","v":2406}]
[null,null,null,"4 стороны",null,null,null,3683.0298304800008,{"$f":"ROUND(H17*(1-I8)/Лист2!$A$6,0)","v":3683}]
[null,null,"CF(T)400C","1 сторона","1240х710","640х800","1240х800",1344.0440613600001,{"$f":"ROUND(H18*(1-I8)/Лист2!$A$6,0)","v":1344}]
[null,null,null,"3 стороны",null,null,null,2493.58824,{"$f":"ROUND(H19*(1-I8)/Лист2!$A$6,0)","v":2494}]
[null,null,null,"4 стороны",null,null,null,4054.5744782400006,{"$f":"ROUND(H20*(1-I8)/Лист2!$A$6,0)","v":4055}]
[null,null,"CF(T)500C","1 сторона","1460х710","640х800","1460х800",1533.5567676000003,{"$f":"ROUND(H21*(1-I8)/Лист2!$A$6,0)","v":1534}]
[null,null,null,"3 стороны",null,null,null,2770.3765346400005,{"$f":"ROUND(H22*(1-I8)/Лист2!$A$6,0)","v":2770}]
[null,null,null,"4 стороны",null,null,null,4451.0550084000006,{"$f":"ROUND(H23*(1-I8)/Лист2!$A$6,0)","v":4451}]
[null,null,"CF(T)600C","1 сторона","1680х710","640х800","1680х800",1723.0694738400005,{"$f":"ROUND(H24*(1-I8)/Лист2!$A$6,0)","v":1723}]
[null,null,null,"3 стороны",null,null,null,2949.9148879200002,{"$f":"ROUND(H25*(1-I8)/Лист2!$A$6,0)","v":2950}]
[null,null,null,"4 стороны",null,null,null,4855.0163032800001,{"$f":"ROUND(H26*(1-I8)/Лист2!$A$6,0)","v":4855}]
[2,"Морозильные лари с прямыми раздвижными стеклами"]
[null,null,"CF(T)200F","1 сторона","840х810","640х810","840х810",1104.65959032,{"$f":"ROUND(H28*(1-$I$8)/[2]СОДЕРЖАНИЕ!$C$6/[2]Лист2!$A$6,0)","v":1105}]
[null,null,null,"3 стороны",null,null,null,2348.9601220800005,{"$f":"ROUND(H29*(1-$I$8)/[2]СОДЕРЖАНИЕ!$C$6/[2]Лист2!$A$6,0)","v":2349}]
[null,null,null,"4 стороны",null,null,null,3453.6197124000005,{"$f":"ROUND(H30*(1-$I$8)/[2]СОДЕРЖАНИЕ!$C$6/[2]Лист2!$A$6,0)","v":3454}]
[null,null,"CF(T)300F","1 сторона","1040х810","640х810","1040х810",1301.65306128,{"$f":"ROUND(H31*(1-$I$8)/[2]СОДЕРЖАНИЕ!$C$6/[2]Лист2!$A$6,0)","v":1302}]
[null,null,null,"3 стороны",null,null,null,2545.9535930400002,{"$f":"ROUND(H32*(1-$I$8)/[2]СОДЕРЖАНИЕ!$C$6/[2]Лист2!$A$6,0)","v":2546}]
[null,null,null,"4 стороны",null,null,null,3842.6194778400009,{"$f":"ROUND(H33*(1-$I$8)/[2]СОДЕРЖАНИЕ!$C$6/[2]Лист2!$A$6,0)","v":3843}]
[null,null,"CF(T)400F","1 сторона","1240х810","640х810","1240х810",1491.1657675200001,{"$f":"ROUND(H34*(1-$I$8)/[2]СОДЕРЖАНИЕ!$C$6/[2]Лист2!$A$6,0)","v":1491}]
[null,null,null,"3 стороны",null,null,null,2742.9470640000004,{"$f":"ROUND(H35*(1-$I$8)/[2]СОДЕРЖАНИЕ!$C$6/[2]Лист2!$A$6,0)","v":2743}]
[null,null,null,"4 стороны",null,null,null,4229.1256550400012,{"$f":"ROUND(H36*(1-$I$8)/[2]СОДЕРЖАНИЕ!$C$6/[2]Лист2!$A$6,0)","v":4229}]
[null,null,"CF(T)500F","1 сторона","1460х810","640х810","1460х810",1705.6143561600004,{"$f":"ROUND(H37*(1-$I$8)/[2]СОДЕРЖАНИЕ!$C$6/[2]Лист2!$A$6,0)","v":1706}]
[null,null,null,"3 стороны",null,null,null,2959.8892408800007,{"$f":"ROUND(H38*(1-$I$8)/[2]СОДЕРЖАНИЕ!$C$6/[2]Лист2!$A$6,0)","v":2960}]
[null,null,null,"4 стороны",null,null,null,4655.5292440800004,{"$f":"ROUND(H39*(1-$I$8)/[2]СОДЕРЖАНИЕ!$C$6/[2]Лист2!$A$6,0)","v":4656}]
[null,null,"CF(T)600F","1 сторона","1680Х810","640х810","1680х810",1920.0629448000002,{"$f":"ROUND(H40*(1-$I$8)/[2]СОДЕРЖАНИЕ!$C$6/[2]Лист2!$A$6,0)","v":1920}]
[null,null,null,"3 стороны",null,null,null,3174.3378295200005,{"$f":"ROUND(H41*(1-$I$8)/[2]СОДЕРЖАНИЕ!$C$6/[2]Лист2!$A$6,0)","v":3174}]
[null,null,null,"4 стороны",null,null,null,5094.40077432,{"$f":"ROUND(H42*(1-$I$8)/[2]СОДЕРЖАНИЕ!$C$6/[2]Лист2!$A$6,0)","v":5094}]
[3,"Низкотемпературная надстройка над ларем 400 л. Verona"]
[null,null,null,"1 сторона (верхний баннер, фронтальная часть)","-","-","-",4657.5,{"$f":"ROUND(H44*(1-$I$8)/[2]СОДЕРЖАНИЕ!$C$6/[2]Лист2!$A$6,0)","v":4658}]
[null,null,null,"3 стороны (верхний баннер (фронтальная часть) + 2 боковины)",null,null,null,7917.75,{"$f":"ROUND(H45*(1-$I$8)/[2]СОДЕРЖАНИЕ!$C$6/[2]Лист2!$A$6,0)","v":7918}]
[]
[]
["Примечание:",null,"Пленка толщиной 100 мкр + ламинация толщиной 80 мкр. Качество 720 dpi."]

{"sheet":"Лист1","index":12,"n_rows":0,"n_cols":0,"rows_kept":0,"cut":false,"hidden":true,"merged":[]}

{"sheet":"Лист2","index":13,"n_rows":7,"n_cols":1,"rows_kept":7,"cut":false,"hidden":true,"merged":[]}
[true]
["Базовая \nцена, руб."]
["Базовая \nцена, руб. б/НДС"]
[{"$f":"IF(A1=TRUE,\"руб.\",\"руб. б/НДС\")","v":"руб."}]
[{"$f":"CONCATENATE(\"Ваша цена, \",A4)","v":"Ваша цена, руб."}]
[{"$f":"IF(A1=TRUE,1,1.2)","v":1}]
[{"$f":"IF(A1=TRUE,1,1.2)","v":1}]